BEGIN:VCALENDAR
VERSION:2.0
PRODID:-//WreckMaster - ECPv6.15.20//NONSGML v1.0//EN
CALSCALE:GREGORIAN
METHOD:PUBLISH
X-ORIGINAL-URL:https://wreckmaster.com
X-WR-CALDESC:Events for WreckMaster
REFRESH-INTERVAL;VALUE=DURATION:PT1H
X-Robots-Tag:noindex
X-PUBLISHED-TTL:PT1H
BEGIN:VTIMEZONE
TZID:America/Toronto
BEGIN:DAYLIGHT
TZOFFSETFROM:-0500
TZOFFSETTO:-0400
TZNAME:EDT
DTSTART:20250309T070000
END:DAYLIGHT
BEGIN:STANDARD
TZOFFSETFROM:-0400
TZOFFSETTO:-0500
TZNAME:EST
DTSTART:20251102T060000
END:STANDARD
BEGIN:DAYLIGHT
TZOFFSETFROM:-0500
TZOFFSETTO:-0400
TZNAME:EDT
DTSTART:20260308T070000
END:DAYLIGHT
BEGIN:STANDARD
TZOFFSETFROM:-0400
TZOFFSETTO:-0500
TZNAME:EST
DTSTART:20261101T060000
END:STANDARD
BEGIN:DAYLIGHT
TZOFFSETFROM:-0500
TZOFFSETTO:-0400
TZNAME:EDT
DTSTART:20270314T070000
END:DAYLIGHT
BEGIN:STANDARD
TZOFFSETFROM:-0400
TZOFFSETTO:-0500
TZNAME:EST
DTSTART:20271107T060000
END:STANDARD
END:VTIMEZONE
BEGIN:VEVENT
DTSTART;TZID=America/Toronto:20261003T080000
DTEND;TZID=America/Toronto:20261004T170000
DTSTAMP:20260423T093843
CREATED:20260417T171706Z
LAST-MODIFIED:20260417T171706Z
UID:10000927-1791014400-1791133200@wreckmaster.com
SUMMARY:Ivyland\, PA Rotator Class October 3-4\, 2026
DESCRIPTION:REVIEW SESSION October 2\, 6pm-9pm. Must be registered to attend.
URL:https://wreckmaster.com/event/ivyland-pa/
LOCATION:Blair Corporation\, 95 Louise Drive\, Ivyland\, Pennsylvania\, 18974\, United States
CATEGORIES:Rotator Hands-On
ATTACH;FMTTYPE=image/png:https://wreckmaster.com/wp-content/uploads/2022/08/ROTATOR-HANDS-ON.png
ORGANIZER;CN="WreckMaster":MAILTO:info@wreckmaster.com
END:VEVENT
END:VCALENDAR