BEGIN:VCALENDAR
VERSION:2.0
PRODID:-//WreckMaster - ECPv6.15.20//NONSGML v1.0//EN
CALSCALE:GREGORIAN
METHOD:PUBLISH
X-WR-CALNAME:WreckMaster
X-ORIGINAL-URL:https://wreckmaster.com
X-WR-CALDESC:Events for WreckMaster
REFRESH-INTERVAL;VALUE=DURATION:PT1H
X-Robots-Tag:noindex
X-PUBLISHED-TTL:PT1H
BEGIN:VTIMEZONE
TZID:America/Toronto
BEGIN:DAYLIGHT
TZOFFSETFROM:-0500
TZOFFSETTO:-0400
TZNAME:EDT
DTSTART:20240310T070000
END:DAYLIGHT
BEGIN:STANDARD
TZOFFSETFROM:-0400
TZOFFSETTO:-0500
TZNAME:EST
DTSTART:20241103T060000
END:STANDARD
BEGIN:DAYLIGHT
TZOFFSETFROM:-0500
TZOFFSETTO:-0400
TZNAME:EDT
DTSTART:20250309T070000
END:DAYLIGHT
BEGIN:STANDARD
TZOFFSETFROM:-0400
TZOFFSETTO:-0500
TZNAME:EST
DTSTART:20251102T060000
END:STANDARD
BEGIN:DAYLIGHT
TZOFFSETFROM:-0500
TZOFFSETTO:-0400
TZNAME:EDT
DTSTART:20260308T070000
END:DAYLIGHT
BEGIN:STANDARD
TZOFFSETFROM:-0400
TZOFFSETTO:-0500
TZNAME:EST
DTSTART:20261101T060000
END:STANDARD
BEGIN:DAYLIGHT
TZOFFSETFROM:-0500
TZOFFSETTO:-0400
TZNAME:EDT
DTSTART:20270314T070000
END:DAYLIGHT
BEGIN:STANDARD
TZOFFSETFROM:-0400
TZOFFSETTO:-0500
TZNAME:EST
DTSTART:20271107T060000
END:STANDARD
BEGIN:DAYLIGHT
TZOFFSETFROM:-0500
TZOFFSETTO:-0400
TZNAME:EDT
DTSTART:20280312T070000
END:DAYLIGHT
BEGIN:STANDARD
TZOFFSETFROM:-0400
TZOFFSETTO:-0500
TZNAME:EST
DTSTART:20281105T060000
END:STANDARD
END:VTIMEZONE
BEGIN:VEVENT
DTSTART;TZID=America/Toronto:20250101T080000
DTEND;TZID=America/Toronto:20271231T170000
DTSTAMP:20260422T181104
CREATED:20250312T145257Z
LAST-MODIFIED:20260220T140131Z
UID:10000660-1735718400-1830272400@wreckmaster.com
SUMMARY:Intro to Light Duty 2025
DESCRIPTION:
URL:https://wreckmaster.com/event/intro-to-light-duty-2025/
ORGANIZER;CN="WreckMaster":MAILTO:info@wreckmaster.com
END:VEVENT
BEGIN:VEVENT
DTSTART;TZID=America/Toronto:20250101T080000
DTEND;TZID=America/Toronto:20271231T170000
DTSTAMP:20260422T181104
CREATED:20250313T133628Z
LAST-MODIFIED:20260220T140319Z
UID:10000661-1735718400-1830272400@wreckmaster.com
SUMMARY:Intro to Medium Duty 2025
DESCRIPTION:
URL:https://wreckmaster.com/event/intro-to-medium-duty-2025/
ORGANIZER;CN="WreckMaster":MAILTO:info@wreckmaster.com
END:VEVENT
BEGIN:VEVENT
DTSTART;TZID=America/Toronto:20250101T080000
DTEND;TZID=America/Toronto:20271231T170000
DTSTAMP:20260422T181104
CREATED:20250313T134435Z
LAST-MODIFIED:20260220T140353Z
UID:10000662-1735718400-1830272400@wreckmaster.com
SUMMARY:Intro to Heavy Duty 2025
DESCRIPTION:
URL:https://wreckmaster.com/event/intro-to-heavy-duty-2025/
ORGANIZER;CN="WreckMaster":MAILTO:info@wreckmaster.com
END:VEVENT
BEGIN:VEVENT
DTSTART;TZID=America/Toronto:20250101T080000
DTEND;TZID=America/Toronto:20271231T170000
DTSTAMP:20260422T181104
CREATED:20250313T134828Z
LAST-MODIFIED:20260220T140427Z
UID:10000663-1735718400-1830272400@wreckmaster.com
SUMMARY:Intro to Ultra Heavy Duty 2025
DESCRIPTION:
URL:https://wreckmaster.com/event/intro-to-ultra-heavy-duty-2025/
ORGANIZER;CN="WreckMaster":MAILTO:info@wreckmaster.com
END:VEVENT
BEGIN:VEVENT
DTSTART;TZID=America/Toronto:20250101T080000
DTEND;TZID=America/Toronto:20271231T170000
DTSTAMP:20260422T181104
CREATED:20250313T135205Z
LAST-MODIFIED:20260220T140509Z
UID:10000664-1735718400-1830272400@wreckmaster.com
SUMMARY:Intro to Rotator 2025
DESCRIPTION:
URL:https://wreckmaster.com/event/intro-to-rotator-2025-2/
ORGANIZER;CN="WreckMaster":MAILTO:info@wreckmaster.com
END:VEVENT
BEGIN:VEVENT
DTSTART;TZID=America/Toronto:20250101T080000
DTEND;TZID=America/Toronto:20271231T170000
DTSTAMP:20260422T181104
CREATED:20250313T141132Z
LAST-MODIFIED:20260220T140545Z
UID:10000665-1735718400-1830272400@wreckmaster.com
SUMMARY:Intro to T.R.I.P Level 1 (Operator) 2025
DESCRIPTION:
URL:https://wreckmaster.com/event/intro-to-t-r-i-p-level-1-operator-2025/
ORGANIZER;CN="WreckMaster":MAILTO:info@wreckmaster.com
END:VEVENT
BEGIN:VEVENT
DTSTART;TZID=America/Toronto:20250101T080000
DTEND;TZID=America/Toronto:20271231T170000
DTSTAMP:20260422T181104
CREATED:20250313T141832Z
LAST-MODIFIED:20260220T140617Z
UID:10000666-1735718400-1830272400@wreckmaster.com
SUMMARY:Intro to T.R.I.P Level 2 (Supervisor) 2025
DESCRIPTION:
URL:https://wreckmaster.com/event/intro-to-t-r-i-p-level-2-supervisor-2025/
ORGANIZER;CN="WreckMaster":MAILTO:info@wreckmaster.com
END:VEVENT
BEGIN:VEVENT
DTSTART;TZID=America/Toronto:20260422T080000
DTEND;TZID=America/Toronto:20260423T170000
DTSTAMP:20260422T181104
CREATED:20260107T162909Z
LAST-MODIFIED:20260206T223137Z
UID:10000852-1776844800-1776963600@wreckmaster.com
SUMMARY:Birmingham\, AL Level 4/5 April 22-23\, 2026
DESCRIPTION:
URL:https://wreckmaster.com/event/scott-aey-3/
LOCATION:Weil Wrecker Service\, 3400 2nd Ave S\, Birmingham\, AL\, 35222\, United States
CATEGORIES:4/5 Hands-On
ATTACH;FMTTYPE=image/png:https://wreckmaster.com/wp-content/uploads/2025/10/45-HANDS-ON-smaller.png
ORGANIZER;CN="WreckMaster":MAILTO:info@wreckmaster.com
GEO:33.5204903;-86.7840332
X-APPLE-STRUCTURED-LOCATION;VALUE=URI;X-ADDRESS=Weil Wrecker Service 3400 2nd Ave S Birmingham AL 35222 United States;X-APPLE-RADIUS=500;X-TITLE=3400 2nd Ave S:geo:-86.7840332,33.5204903
END:VEVENT
BEGIN:VEVENT
DTSTART;TZID=America/Toronto:20260424T080000
DTEND;TZID=America/Toronto:20260425T170000
DTSTAMP:20260422T181104
CREATED:20260120T040209Z
LAST-MODIFIED:20260206T223034Z
UID:10000853-1777017600-1777136400@wreckmaster.com
SUMMARY:Birmingham\, AL Level 6/7 April 24-25\, 2026
DESCRIPTION:
URL:https://wreckmaster.com/event/scott-aey-4/
LOCATION:Weil Wrecker Service\, 3400 2nd Ave S\, Birmingham\, AL\, 35222\, United States
CATEGORIES:6/7 Hands-On
ATTACH;FMTTYPE=image/png:https://wreckmaster.com/wp-content/uploads/2025/10/67-HANDS-ON-smaller.png
ORGANIZER;CN="WreckMaster":MAILTO:info@wreckmaster.com
GEO:33.5204903;-86.7840332
X-APPLE-STRUCTURED-LOCATION;VALUE=URI;X-ADDRESS=Weil Wrecker Service 3400 2nd Ave S Birmingham AL 35222 United States;X-APPLE-RADIUS=500;X-TITLE=3400 2nd Ave S:geo:-86.7840332,33.5204903
END:VEVENT
BEGIN:VEVENT
DTSTART;TZID=America/Toronto:20260425T080000
DTEND;TZID=America/Toronto:20260426T170000
DTSTAMP:20260422T181104
CREATED:20251201T170047Z
LAST-MODIFIED:20260206T223310Z
UID:10000830-1777104000-1777222800@wreckmaster.com
SUMMARY:Sanford ME Level 4/5 April 25-26\, 2026
DESCRIPTION:Sanford ME Level 4/5 April 25-26 2026 Classroom Held at Sanford Police Department 935 Main St Sanford ME 04073 Host: Chandlers Automotive & Towing 328 Jagger Mill Rd\, Sanford ME 04073
URL:https://wreckmaster.com/event/sanford-me-level-4-5-april-25-26-2026/
LOCATION:Sanford Police Department\, 935 Main Street\, Sanford\, 4073\, United States
CATEGORIES:4/5 Hands-On
ATTACH;FMTTYPE=image/png:https://wreckmaster.com/wp-content/uploads/2025/10/45-HANDS-ON-smaller.png
ORGANIZER;CN="WreckMaster":MAILTO:info@wreckmaster.com
END:VEVENT
BEGIN:VEVENT
DTSTART;TZID=America/Toronto:20260429T080000
DTEND;TZID=America/Toronto:20260430T170000
DTSTAMP:20260422T181104
CREATED:20260325T144940Z
LAST-MODIFIED:20260325T144940Z
UID:10000914-1777449600-1777568400@wreckmaster.com
SUMMARY:Teams Test Event
DESCRIPTION:
URL:https://wreckmaster.com/event/teams-test-event/
LOCATION:WreckMaster\, 150 Lawrence Bell Drive\, Williamsville\, NY\, 14221\, United States
ORGANIZER;CN="WreckMaster":MAILTO:info@wreckmaster.com
GEO:42.9533621;-78.7194825
X-APPLE-STRUCTURED-LOCATION;VALUE=URI;X-ADDRESS=WreckMaster 150 Lawrence Bell Drive Williamsville NY 14221 United States;X-APPLE-RADIUS=500;X-TITLE=150 Lawrence Bell Drive:geo:-78.7194825,42.9533621
END:VEVENT
BEGIN:VEVENT
DTSTART;TZID=America/Toronto:20260430T080000
DTEND;TZID=America/Toronto:20260501T170000
DTSTAMP:20260422T181104
CREATED:20250718T140427Z
LAST-MODIFIED:20260226T180543Z
UID:10000752-1777536000-1777654800@wreckmaster.com
SUMMARY:Baldwin\, WI Level 2/3 April 30-May 1\, 2026
DESCRIPTION:Our flagship training course\, Level 2/3: Fundamentals course focuses primarily on light-duty vehicles\, with introductory techniques for medium and heavy-duty work. \nUpon successful completion of the training evaluation\, attendees will receive a training certificate. \nLevel 2/3: Fundamentals is best for business owners\, company managers\, trainers\, health and safety reps or any career-oriented operators.
URL:https://wreckmaster.com/event/baldwin-wisconsin-level-2-3-april-30-may-1-2025/
LOCATION:Day & Night Towing\, 850 Hillcrest St\, Baldwin\, WI\, 54002\, United States
CATEGORIES:2024 Classes,23 Hands-On
ATTACH;FMTTYPE=image/png:https://wreckmaster.com/wp-content/uploads/2022/08/23-HANDS-ON-300x300-1.png
ORGANIZER;CN="WreckMaster":MAILTO:info@wreckmaster.com
GEO:44.9745721;-92.3723949
X-APPLE-STRUCTURED-LOCATION;VALUE=URI;X-ADDRESS=Day & Night Towing 850 Hillcrest St Baldwin WI 54002 United States;X-APPLE-RADIUS=500;X-TITLE=850 Hillcrest St:geo:-92.3723949,44.9745721
END:VEVENT
BEGIN:VEVENT
DTSTART;TZID=America/Toronto:20260425T080000
DTEND;TZID=America/Toronto:20260426T170000
DTSTAMP:20260422T181104
CREATED:20260309T021422Z
LAST-MODIFIED:20260309T021422Z
UID:10000891-1777104000-1777222800@wreckmaster.com
SUMMARY:Cochranville\, PA Level 2/3 April 25-26\, 2026
DESCRIPTION:
URL:https://wreckmaster.com/event/nulls-sale-and-service/
LOCATION:Nulls Sale and Service\, 1003 Gap Newport Pike\, Cochranville\, PA\, 19339\, United States
CATEGORIES:23 Hands-On
ATTACH;FMTTYPE=image/png:https://wreckmaster.com/wp-content/uploads/2025/10/23-HANDS-ON-300x300-1.png
ORGANIZER:MAILTO:info@wreckmaster.com
END:VEVENT
BEGIN:VEVENT
DTSTART;TZID=America/Toronto:20260430T080000
DTEND;TZID=America/Toronto:20260501T170000
DTSTAMP:20260422T181104
CREATED:20260417T181844Z
LAST-MODIFIED:20260417T182340Z
UID:10000928-1777536000-1777654800@wreckmaster.com
SUMMARY:Cochranville\, PA Level 2/3 April 30 -May 1\, 2026
DESCRIPTION:
URL:https://wreckmaster.com/event/cochranville-pa-level-2-3-april-30-may-1-2026/
LOCATION:Null’s Towing\, Gap Newport Pike\, Cochranville\, PA\, 19330\, United States
CATEGORIES:23 Hands-On
ATTACH;FMTTYPE=image/png:https://wreckmaster.com/wp-content/uploads/2025/10/23-HANDS-ON-300x300-1.png
ORGANIZER;CN="WreckMaster":MAILTO:info@wreckmaster.com
GEO:39.8922433;-75.9196012
X-APPLE-STRUCTURED-LOCATION;VALUE=URI;X-ADDRESS=Null’s Towing Gap Newport Pike Cochranville PA 19330 United States;X-APPLE-RADIUS=500;X-TITLE=Gap Newport Pike:geo:-75.9196012,39.8922433
END:VEVENT
BEGIN:VEVENT
DTSTART;TZID=America/Toronto:20260501T170000
DTEND;TZID=America/Toronto:20260501T190000
DTSTAMP:20260422T181104
CREATED:20260403T161320Z
LAST-MODIFIED:20260403T161320Z
UID:10000920-1777654800-1777662000@wreckmaster.com
SUMMARY:Baldwin\, WI Keys to EV Success May 1\, 2026
DESCRIPTION:
URL:https://wreckmaster.com/event/keys-to-ev-success/
LOCATION:Day & Nite Towing\, 850 Hillcrest St\, Baldwin\, WI\, 54002\, United States
CATEGORIES:HEV
ATTACH;FMTTYPE=image/png:https://wreckmaster.com/wp-content/uploads/2023/06/HYBRID-ELECTRIC-HEV-SEMINAR-button-RESIZED.png
ORGANIZER;CN="WreckMaster":MAILTO:info@wreckmaster.com
GEO:44.9745721;-92.3723949
X-APPLE-STRUCTURED-LOCATION;VALUE=URI;X-ADDRESS=Day & Nite Towing 850 Hillcrest St Baldwin WI 54002 United States;X-APPLE-RADIUS=500;X-TITLE=850 Hillcrest St:geo:-92.3723949,44.9745721
END:VEVENT
BEGIN:VEVENT
DTSTART;TZID=America/Toronto:20260502T080000
DTEND;TZID=America/Toronto:20260503T170000
DTSTAMP:20260422T181104
CREATED:20250718T135339Z
LAST-MODIFIED:20260206T215823Z
UID:10000751-1777708800-1777827600@wreckmaster.com
SUMMARY:Baldwin\, WI Level 4/5 May 2-3\, 2026
DESCRIPTION:Level 4/5: Advanced Techniques gives you the skills needed to tackle medium and heavy-duty jobs the first time\, every time. No more near misses or failed attempts. \nIf you’ve taken the WreckMaster Level 2/3: Fundamentals course and you want to be able to tow and recover in even more complicated and potentially dangerous scenarios\, the Level 4/5: Advanced Techniques course is for you. \nIt’s an especially good fit for company owners\, trainers and organizations that work with or train fire and rescue personnel \nUpon successful completion of the training evaluation\, attendees will receive a training certificate.
URL:https://wreckmaster.com/event/baldwin-wisconsin-level-4-5-may-2-3-2026/
LOCATION:Day & Nite Towing\, 850 Hillcrest St\, Baldwin\, WI\, 54002\, United States
CATEGORIES:2024 Classes,4/5 Hands-On
ATTACH;FMTTYPE=image/png:https://wreckmaster.com/wp-content/uploads/2023/05/45-HANDS-ON-smaller.png
ORGANIZER;CN="WreckMaster":MAILTO:info@wreckmaster.com
GEO:44.9745721;-92.3723949
X-APPLE-STRUCTURED-LOCATION;VALUE=URI;X-ADDRESS=Day & Nite Towing 850 Hillcrest St Baldwin WI 54002 United States;X-APPLE-RADIUS=500;X-TITLE=850 Hillcrest St:geo:-92.3723949,44.9745721
END:VEVENT
BEGIN:VEVENT
DTSTART;TZID=America/Toronto:20260502T080000
DTEND;TZID=America/Toronto:20260503T170000
DTSTAMP:20260422T181104
CREATED:20251212T215606Z
LAST-MODIFIED:20260210T024123Z
UID:10000839-1777708800-1777827600@wreckmaster.com
SUMMARY:Lansing\, MI Level 2/3 May 2-3\, 2026
DESCRIPTION:
URL:https://wreckmaster.com/event/2-3-hands-on-training-2/
LOCATION:PJ’s Towing\, 2200 Olds Ave\, Lansing\, MI\, 48915\, United States
CATEGORIES:23 Hands-On
ATTACH;FMTTYPE=image/png:https://wreckmaster.com/wp-content/uploads/2025/10/23-HANDS-ON-300x300-1.png
ORGANIZER;CN="WreckMaster":MAILTO:info@wreckmaster.com
GEO:42.7016634;-84.6647898
X-APPLE-STRUCTURED-LOCATION;VALUE=URI;X-ADDRESS=PJ’s Towing 2200 Olds Ave Lansing MI 48915 United States;X-APPLE-RADIUS=500;X-TITLE=2200 Olds Ave:geo:-84.6647898,42.7016634
END:VEVENT
BEGIN:VEVENT
DTSTART;TZID=America/Toronto:20260502T080000
DTEND;TZID=America/Toronto:20260503T170000
DTSTAMP:20260422T181104
CREATED:20260204T151048Z
LAST-MODIFIED:20260304T175542Z
UID:10000871-1777708800-1777827600@wreckmaster.com
SUMMARY:Doswell\, VA TRIP Level 2\, May 2-3 2026
DESCRIPTION:
URL:https://wreckmaster.com/event/doswell-va-trip-level-2-may-2-3-2026/
LOCATION:Anytime Towing & Recovery\, 16269 Washington Hwy\, Doswell\, VA\, 23006\, United States
CATEGORIES:T.R.I.P. L2
ATTACH;FMTTYPE=image/png:https://wreckmaster.com/wp-content/uploads/2025/10/TRIP-2-smaller.png
ORGANIZER;CN="WreckMaster":MAILTO:info@wreckmaster.com
GEO:37.8516157;-77.464864
X-APPLE-STRUCTURED-LOCATION;VALUE=URI;X-ADDRESS=Anytime Towing & Recovery 16269 Washington Hwy Doswell VA 23006 United States;X-APPLE-RADIUS=500;X-TITLE=16269 Washington Hwy:geo:-77.464864,37.8516157
END:VEVENT
BEGIN:VEVENT
DTSTART;TZID=America/Toronto:20260502T080000
DTEND;TZID=America/Toronto:20260503T170000
DTSTAMP:20260422T181104
CREATED:20260218T214436Z
LAST-MODIFIED:20260218T214436Z
UID:10000880-1777708800-1777827600@wreckmaster.com
SUMMARY:Burgettstown\, PA Level 4/5 May 2-3\, 2026
DESCRIPTION:
URL:https://wreckmaster.com/event/burgettstown-pa-level-4-5-may-2-3-2026/
LOCATION:Slovan/Smith Township Vol Fire Department & Wally’s Auto Service\, 1969 Smith Township State Rd\,\, Burgettstown\, PA\, 15078\, United States
CATEGORIES:4/5 Hands-On
ATTACH;FMTTYPE=image/png:https://wreckmaster.com/wp-content/uploads/2025/10/45-HANDS-ON-smaller.png
ORGANIZER;CN="WreckMaster":MAILTO:info@wreckmaster.com
GEO:40.3615815;-80.3906612
X-APPLE-STRUCTURED-LOCATION;VALUE=URI;X-ADDRESS=Slovan/Smith Township Vol Fire Department & Wally’s Auto Service 1969 Smith Township State Rd Burgettstown PA 15078 United States;X-APPLE-RADIUS=500;X-TITLE=1969 Smith Township State Rd\,:geo:-80.3906612,40.3615815
END:VEVENT
BEGIN:VEVENT
DTSTART;TZID=America/Toronto:20260502T080000
DTEND;TZID=America/Toronto:20260503T170000
DTSTAMP:20260422T181104
CREATED:20260319T193737Z
LAST-MODIFIED:20260320T140541Z
UID:10000908-1777708800-1777827600@wreckmaster.com
SUMMARY:Welland\, ON Level 4/5 May 2-3\, 2026
DESCRIPTION:
URL:https://wreckmaster.com/event/welland-on-level-4-5-may-2-3-2026/
LOCATION:JNE Recovery\, 550 Rusholme Rd\, Welland\, ON\, L3B 5N7\, Canada
CATEGORIES:4/5 Hands-On
ATTACH;FMTTYPE=image/png:https://wreckmaster.com/wp-content/uploads/2025/10/45-HANDS-ON-smaller.png
ORGANIZER;CN="WreckMaster":MAILTO:info@wreckmaster.com
END:VEVENT
BEGIN:VEVENT
DTSTART;TZID=America/Toronto:20260505T080000
DTEND;TZID=America/Toronto:20260506T170000
DTSTAMP:20260422T181104
CREATED:20260311T175451Z
LAST-MODIFIED:20260311T180106Z
UID:10000897-1777968000-1778086800@wreckmaster.com
SUMMARY:Max Meadows\, VA Trip Level 1 May 5-6\, 2026
DESCRIPTION:
URL:https://wreckmaster.com/event/max-meadows-va-trip-1/
LOCATION:Complete Towing\, Major Grahams Road\, Max Meadows\, VA\, 24360\, United States
CATEGORIES:T.R.I.P L1
ATTACH;FMTTYPE=image/png:https://wreckmaster.com/wp-content/uploads/2025/10/TRIP-1-1-New-Size-1.png
ORGANIZER;CN="WreckMaster":MAILTO:info@wreckmaster.com
GEO:36.9493931;-80.8795145
X-APPLE-STRUCTURED-LOCATION;VALUE=URI;X-ADDRESS=Complete Towing Major Grahams Road Max Meadows VA 24360 United States;X-APPLE-RADIUS=500;X-TITLE=Major Grahams Road:geo:-80.8795145,36.9493931
END:VEVENT
BEGIN:VEVENT
DTSTART;TZID=America/Toronto:20260506T080000
DTEND;TZID=America/Toronto:20260507T170000
DTSTAMP:20260422T181104
CREATED:20260312T010233Z
LAST-MODIFIED:20260312T010233Z
UID:10000902-1778054400-1778173200@wreckmaster.com
SUMMARY:Grants Pass\, OR Level 4/5 May 6-7\, 2026
DESCRIPTION:
URL:https://wreckmaster.com/event/grants-pass-or-level-4-5-may-6-2026/
LOCATION:Goodfellas Towing\, 3465 Camp Joy Rd\, Grants Pass\, OR\, 97526\, United States
CATEGORIES:4/5 Hands-On
ATTACH;FMTTYPE=image/png:https://wreckmaster.com/wp-content/uploads/2025/10/45-HANDS-ON-smaller.png
ORGANIZER;CN="WreckMaster":MAILTO:info@wreckmaster.com
END:VEVENT
BEGIN:VEVENT
DTSTART;TZID=America/Toronto:20260507T080000
DTEND;TZID=America/Toronto:20260508T170000
DTSTAMP:20260422T181104
CREATED:20260311T175937Z
LAST-MODIFIED:20260311T175937Z
UID:10000898-1778140800-1778259600@wreckmaster.com
SUMMARY:Max Meadows\, VA Trip Level 2 May 7-8\, 2026
DESCRIPTION:
URL:https://wreckmaster.com/event/max-meadows-va-trip-l-2/
LOCATION:Complete Towing\, Major Grahams Road\, Max Meadows\, VA\, 24360\, United States
CATEGORIES:T.R.I.P. L2
ATTACH;FMTTYPE=image/png:https://wreckmaster.com/wp-content/uploads/2025/10/TRIP-2-smaller.png
ORGANIZER;CN="WreckMaster":MAILTO:info@wreckmaster.com
GEO:36.9493931;-80.8795145
X-APPLE-STRUCTURED-LOCATION;VALUE=URI;X-ADDRESS=Complete Towing Major Grahams Road Max Meadows VA 24360 United States;X-APPLE-RADIUS=500;X-TITLE=Major Grahams Road:geo:-80.8795145,36.9493931
END:VEVENT
BEGIN:VEVENT
DTSTART;TZID=America/Toronto:20260508T080000
DTEND;TZID=America/Toronto:20260509T170000
DTSTAMP:20260422T181104
CREATED:20260312T010421Z
LAST-MODIFIED:20260312T010637Z
UID:10000903-1778227200-1778346000@wreckmaster.com
SUMMARY:Grants Pass\, OR Level 6/7 May 8-9\, 2026
DESCRIPTION:
URL:https://wreckmaster.com/event/grants-pass-or-level-6-7-may-8-9-2026/
LOCATION:Goodfellas Towing\, 3465 Camp Joy Rd\, Grants Pass\, OR\, 97526\, United States
CATEGORIES:6/7 Hands-On
ATTACH;FMTTYPE=image/png:https://wreckmaster.com/wp-content/uploads/2025/10/67-HANDS-ON-smaller.png
ORGANIZER;CN="WreckMaster":MAILTO:info@wreckmaster.com
END:VEVENT
BEGIN:VEVENT
DTSTART;TZID=America/Toronto:20260516T080000
DTEND;TZID=America/Toronto:20260517T170000
DTSTAMP:20260422T181104
CREATED:20260414T144647Z
LAST-MODIFIED:20260414T144647Z
UID:10000925-1778918400-1779037200@wreckmaster.com
SUMMARY:Drummondville\, QC Level 2/3 May 16-17\, 2026
DESCRIPTION:
URL:https://wreckmaster.com/event/drummondville-qc-level-2-3-may-16-17-2026/
LOCATION:APDQ Drummondville\, 1472 rue Jean-B.-Michaud\, Drummondville\, Quebec City\, J2C 7V3\, Canada
CATEGORIES:23 Hands-On
ATTACH;FMTTYPE=image/png:https://wreckmaster.com/wp-content/uploads/2025/10/23-HANDS-ON-300x300-1.png
ORGANIZER;CN="WreckMaster":MAILTO:info@wreckmaster.com
GEO:45.8802909;-72.4842824
X-APPLE-STRUCTURED-LOCATION;VALUE=URI;X-ADDRESS=APDQ Drummondville 1472 rue Jean-B.-Michaud Drummondville Quebec City J2C 7V3 Canada;X-APPLE-RADIUS=500;X-TITLE=1472 rue Jean-B.-Michaud:geo:-72.4842824,45.8802909
END:VEVENT
BEGIN:VEVENT
DTSTART;TZID=America/Toronto:20260519T080000
DTEND;TZID=America/Toronto:20260520T170000
DTSTAMP:20260422T181104
CREATED:20250527T141136Z
LAST-MODIFIED:20260210T024744Z
UID:10000719-1779177600-1779296400@wreckmaster.com
SUMMARY:Heath\, OH Level 2/3 May 19-20\, 2026
DESCRIPTION:Our flagship training course\, Level 2/3: Fundamentals course focuses primarily on light-duty vehicles\, with introductory techniques for medium and heavy-duty work. \nUpon successful completion of the training evaluation\, attendees will receive a training certificate. \nLevel 2/3: Fundamentals is best for business owners\, company managers\, trainers\, health and safety reps or any career-oriented operators.
URL:https://wreckmaster.com/event/heath-oh-level-2-3-may-19-20-2026/
LOCATION:193 Heath Rd\, Heath\, OH\, 43056\, United States
CATEGORIES:2024 Classes,23 Hands-On
ATTACH;FMTTYPE=image/png:https://wreckmaster.com/wp-content/uploads/2023/02/23-HANDS-ON-smaller.png
ORGANIZER;CN="WreckMaster":MAILTO:info@wreckmaster.com
END:VEVENT
BEGIN:VEVENT
DTSTART;TZID=America/Toronto:20260520T110000
DTEND;TZID=America/Toronto:20260520T170000
DTSTAMP:20260422T181104
CREATED:20260323T174809Z
LAST-MODIFIED:20260323T174809Z
UID:10000910-1779274800-1779296400@wreckmaster.com
SUMMARY:Live On-line Level 4/5 May 20\, 2026
DESCRIPTION:
URL:https://wreckmaster.com/event/live-on-line-level-4-5-may-20-2026/
LOCATION:On-line Elearning
CATEGORIES:4/5 On-Line
ATTACH;FMTTYPE=image/png:https://wreckmaster.com/wp-content/uploads/2023/06/45-LIVE-smaller.png
ORGANIZER;CN="WreckMaster":MAILTO:info@wreckmaster.com
END:VEVENT
BEGIN:VEVENT
DTSTART;TZID=America/Toronto:20260521T080000
DTEND;TZID=America/Toronto:20260522T170000
DTSTAMP:20260422T181104
CREATED:20250527T143548Z
LAST-MODIFIED:20260210T024836Z
UID:10000720-1779350400-1779469200@wreckmaster.com
SUMMARY:Heath\, OH Level 4/5 May 21-22\, 2026
DESCRIPTION:Level 4/5: Advanced Techniques gives you the skills needed to tackle medium and heavy-duty jobs the first time\, every time. No more near misses or failed attempts. \nIf you’ve taken the WreckMaster Level 2/3: Fundamentals course and you want to be able to tow and recover in even more complicated and potentially dangerous scenarios\, the Level 4/5: Advanced Techniques course is for you. \nIt’s an especially good fit for company owners\, trainers and organizations that work with or train fire and rescue personnel \nUpon successful completion of the training evaluation\, attendees will receive a training certificate.
URL:https://wreckmaster.com/event/heath-oh-level-4-5-may-21-22-2026/
LOCATION:193 Heath Rd\, Heath\, OH\, 43056\, United States
CATEGORIES:2024 Classes,4/5 Hands-On
ATTACH;FMTTYPE=image/png:https://wreckmaster.com/wp-content/uploads/2023/05/45-HANDS-ON-smaller.png
ORGANIZER;CN="WreckMaster":MAILTO:info@wreckmaster.com
END:VEVENT
BEGIN:VEVENT
DTSTART;TZID=America/Toronto:20260523T080000
DTEND;TZID=America/Toronto:20260524T170000
DTSTAMP:20260422T181104
CREATED:20250716T141110Z
LAST-MODIFIED:20260210T024954Z
UID:10000748-1779523200-1779642000@wreckmaster.com
SUMMARY:Heath\, OH Level 6/7 May 23-24\, 2026
DESCRIPTION:Learn the skills to safely and efficiently manage the most complicated scenarios\, recover the heaviest casualties and impress the most demanding teams on-scene. \nAre you the go-to operator for your company’s most difficult jobs? Are you the problem solver\, the one who gets it right the first time\, every time? Take Level 6/7: Heavy-Duty Applications and become that operator. \nUpon successful completion of the training evaluation\, attendees will receive a training certificate. \nIf you want your customers to say “how did they do that so fast?” and “we’re calling them again\,” take the Level 6/7: Heavy Duty Applications course. Your instructors did.
URL:https://wreckmaster.com/event/heath-oh-level-6-7-may-23-24-2026/
LOCATION:Heath Fire Dept\, 193 Heath Rd Heath Road\, Heath\, OH\, 43056\, United States
CATEGORIES:2024 Classes,6/7 Hands-On
ATTACH;FMTTYPE=image/png:https://wreckmaster.com/wp-content/uploads/2024/05/67-HANDS-ON-smaller.png
ORGANIZER;CN="WreckMaster":MAILTO:info@wreckmaster.com
GEO:40.0220688;-82.4509074
X-APPLE-STRUCTURED-LOCATION;VALUE=URI;X-ADDRESS=Heath Fire Dept 193 Heath Rd Heath Road Heath OH 43056 United States;X-APPLE-RADIUS=500;X-TITLE=193 Heath Rd Heath Road:geo:-82.4509074,40.0220688
END:VEVENT
BEGIN:VEVENT
DTSTART;TZID=America/Toronto:20260523T080000
DTEND;TZID=America/Toronto:20260524T170000
DTSTAMP:20260422T181104
CREATED:20260414T145341Z
LAST-MODIFIED:20260414T145341Z
UID:10000924-1779523200-1779642000@wreckmaster.com
SUMMARY:Mirabel\, QC Level 2/3 May 23-24\, 2026
DESCRIPTION:
URL:https://wreckmaster.com/event/mirabel-qc-level-2-3-may-23-24-2026/
LOCATION:CFTR-APDQ Mirabel\, 17000 Rue Aubin\, Mirabel\, Quebec City\, J7J 1B1\, Canada
CATEGORIES:23 Hands-On
ATTACH;FMTTYPE=image/png:https://wreckmaster.com/wp-content/uploads/2025/10/23-HANDS-ON-300x300-1.png
ORGANIZER;CN="WreckMaster":MAILTO:info@wreckmaster.com
GEO:45.7103846;-73.9387381
X-APPLE-STRUCTURED-LOCATION;VALUE=URI;X-ADDRESS=CFTR-APDQ Mirabel 17000 Rue Aubin Mirabel Quebec City J7J 1B1 Canada;X-APPLE-RADIUS=500;X-TITLE=17000 Rue Aubin:geo:-73.9387381,45.7103846
END:VEVENT
END:VCALENDAR