BEGIN:VCALENDAR
VERSION:2.0
PRODID:-//WreckMaster - ECPv6.15.20//NONSGML v1.0//EN
CALSCALE:GREGORIAN
METHOD:PUBLISH
X-ORIGINAL-URL:https://wreckmaster.com
X-WR-CALDESC:Events for WreckMaster
REFRESH-INTERVAL;VALUE=DURATION:PT1H
X-Robots-Tag:noindex
X-PUBLISHED-TTL:PT1H
BEGIN:VTIMEZONE
TZID:America/Toronto
BEGIN:DAYLIGHT
TZOFFSETFROM:-0500
TZOFFSETTO:-0400
TZNAME:EDT
DTSTART:20250309T070000
END:DAYLIGHT
BEGIN:STANDARD
TZOFFSETFROM:-0400
TZOFFSETTO:-0500
TZNAME:EST
DTSTART:20251102T060000
END:STANDARD
BEGIN:DAYLIGHT
TZOFFSETFROM:-0500
TZOFFSETTO:-0400
TZNAME:EDT
DTSTART:20260308T070000
END:DAYLIGHT
BEGIN:STANDARD
TZOFFSETFROM:-0400
TZOFFSETTO:-0500
TZNAME:EST
DTSTART:20261101T060000
END:STANDARD
BEGIN:DAYLIGHT
TZOFFSETFROM:-0500
TZOFFSETTO:-0400
TZNAME:EDT
DTSTART:20270314T070000
END:DAYLIGHT
BEGIN:STANDARD
TZOFFSETFROM:-0400
TZOFFSETTO:-0500
TZNAME:EST
DTSTART:20271107T060000
END:STANDARD
END:VTIMEZONE
BEGIN:VEVENT
DTSTART;TZID=America/Toronto:20260620T080000
DTEND;TZID=America/Toronto:20260621T170000
DTSTAMP:20260423T061902
CREATED:20260324T152510Z
LAST-MODIFIED:20260324T152510Z
UID:10000913-1781942400-1782061200@wreckmaster.com
SUMMARY:Portland\, OR Level 4/5 June 20-21\, 2026
DESCRIPTION:
URL:https://wreckmaster.com/event/portland-or-level-4-5-june-20-21-2026/
LOCATION:Portland Fire Department Training Facility/Gerlock Towing & Heavy Haul\, 4800 NE 122nd Ave\, Portland\, OR\, 97230\, United States
CATEGORIES:4/5 Hands-On
ATTACH;FMTTYPE=image/png:https://wreckmaster.com/wp-content/uploads/2025/10/45-HANDS-ON-smaller.png
ORGANIZER;CN="WreckMaster":MAILTO:info@wreckmaster.com
GEO:45.5576509;-122.5369279
X-APPLE-STRUCTURED-LOCATION;VALUE=URI;X-ADDRESS=Portland Fire Department Training Facility/Gerlock Towing & Heavy Haul 4800 NE 122nd Ave Portland OR 97230 United States;X-APPLE-RADIUS=500;X-TITLE=4800 NE 122nd Ave:geo:-122.5369279,45.5576509
END:VEVENT
BEGIN:VEVENT
DTSTART;TZID=America/Toronto:20260627T080000
DTEND;TZID=America/Toronto:20260628T170000
DTSTAMP:20260423T061902
CREATED:20260202T174344Z
LAST-MODIFIED:20260210T025843Z
UID:10000869-1782547200-1782666000@wreckmaster.com
SUMMARY:Cartersville\, GA Level 4/5 June 27-28\, 2026
DESCRIPTION:2 day training clas
URL:https://wreckmaster.com/event/scott-aey-7/
LOCATION:Matthews Garage-TRAG\, 541 Martin Rd\, Cartersville\, GA\, 30121\, United States
CATEGORIES:4/5 Hands-On
ATTACH;FMTTYPE=image/png:https://wreckmaster.com/wp-content/uploads/2025/10/45-HANDS-ON-smaller.png
ORGANIZER;CN="WreckMaster":MAILTO:info@wreckmaster.com
GEO:34.2093435;-84.8300178
X-APPLE-STRUCTURED-LOCATION;VALUE=URI;X-ADDRESS=Matthews Garage-TRAG 541 Martin Rd Cartersville GA 30121 United States;X-APPLE-RADIUS=500;X-TITLE=541 Martin Rd:geo:-84.8300178,34.2093435
END:VEVENT
BEGIN:VEVENT
DTSTART;TZID=America/Toronto:20260627T080000
DTEND;TZID=America/Toronto:20260628T170000
DTSTAMP:20260423T061902
CREATED:20260227T181314Z
LAST-MODIFIED:20260227T182815Z
UID:10000889-1782547200-1782666000@wreckmaster.com
SUMMARY:Buffalo\, NY Level 4/5 June 27-28\, 2026
DESCRIPTION:
URL:https://wreckmaster.com/event/buffalo-ny-level-4-5-june-27-28-2026/
LOCATION:WreckMaster Inc. Conference Room\, 150 Lawrence Bell Dr. Suite 112\, Amherst\, NY\, 14221\, United States
CATEGORIES:4/5 Hands-On
ATTACH;FMTTYPE=image/png:https://wreckmaster.com/wp-content/uploads/2025/10/45-HANDS-ON-smaller.png
END:VEVENT
BEGIN:VEVENT
DTSTART;TZID=America/Toronto:20260627T080000
DTEND;TZID=America/Toronto:20260628T170000
DTSTAMP:20260423T061902
CREATED:20260309T031433Z
LAST-MODIFIED:20260309T031433Z
UID:10000894-1782547200-1782666000@wreckmaster.com
SUMMARY:Emmaus\, PA Level 4/5 June 27-28\, 2026
DESCRIPTION:
URL:https://wreckmaster.com/event/mechanic-plus/
LOCATION:Mechanics Plus Towing and Transport Inc\, 4701 Colebrook Ave\, Emmaus\, PA\, 18049\, United States
CATEGORIES:4/5 Hands-On
ATTACH;FMTTYPE=image/png:https://wreckmaster.com/wp-content/uploads/2025/10/45-HANDS-ON-smaller.png
ORGANIZER;CN="WreckMaster":MAILTO:info@wreckmaster.com
GEO:40.5216077;-75.524201
X-APPLE-STRUCTURED-LOCATION;VALUE=URI;X-ADDRESS=Mechanics Plus Towing and Transport Inc 4701 Colebrook Ave Emmaus PA 18049 United States;X-APPLE-RADIUS=500;X-TITLE=4701 Colebrook Ave:geo:-75.524201,40.5216077
END:VEVENT
BEGIN:VEVENT
DTSTART;TZID=America/Toronto:20260627T080000
DTEND;TZID=America/Toronto:20260628T170000
DTSTAMP:20260423T061902
CREATED:20260403T184105Z
LAST-MODIFIED:20260403T184105Z
UID:10000921-1782547200-1782666000@wreckmaster.com
SUMMARY:Cambridge\, ON Level 4/5 June 27-28\, 2026
DESCRIPTION:
URL:https://wreckmaster.com/event/cambridge-on-level-4-5-june-27-28-2026/
LOCATION:Eagle Towing Equipment\, 2455 Eagle Street\, North\, Cambridge\, Ontario\, N1R 8N7\, Canada
CATEGORIES:4/5 Hands-On
ATTACH;FMTTYPE=image/png:https://wreckmaster.com/wp-content/uploads/2025/10/45-HANDS-ON-smaller.png
ORGANIZER;CN="WreckMaster":MAILTO:info@wreckmaster.com
GEO:43.406279;-80.3295
X-APPLE-STRUCTURED-LOCATION;VALUE=URI;X-ADDRESS=Eagle Towing Equipment 2455 Eagle Street North Cambridge Ontario N1R 8N7 Canada;X-APPLE-RADIUS=500;X-TITLE=2455 Eagle Street\, North:geo:-80.3295,43.406279
END:VEVENT
BEGIN:VEVENT
DTSTART;TZID=America/Toronto:20260912T080000
DTEND;TZID=America/Toronto:20260913T170000
DTSTAMP:20260423T061902
CREATED:20251230T205657Z
LAST-MODIFIED:20260210T030134Z
UID:10000850-1789200000-1789318800@wreckmaster.com
SUMMARY:Exeter\, RI Level 4/5 Sept. 12-13\, 2026
DESCRIPTION:
URL:https://wreckmaster.com/event/exeter-ri-level-4-5-sept-12-13-2026/
LOCATION:Rhode Island Fire Academy\, 4 Green Lane\, Exeter\, RI\, 02822\, United States
CATEGORIES:4/5 Hands-On
ATTACH;FMTTYPE=image/png:https://wreckmaster.com/wp-content/uploads/2025/10/45-HANDS-ON-smaller.png
ORGANIZER;CN="WreckMaster":MAILTO:info@wreckmaster.com
GEO:41.5591838;-71.5438923
X-APPLE-STRUCTURED-LOCATION;VALUE=URI;X-ADDRESS=Rhode Island Fire Academy 4 Green Lane Exeter RI 02822 United States;X-APPLE-RADIUS=500;X-TITLE=4 Green Lane:geo:-71.5438923,41.5591838
END:VEVENT
BEGIN:VEVENT
DTSTART;TZID=America/Toronto:20260912T080000
DTEND;TZID=America/Toronto:20260913T170000
DTSTAMP:20260423T061902
CREATED:20260414T150838Z
LAST-MODIFIED:20260414T150838Z
UID:10000923-1789200000-1789318800@wreckmaster.com
SUMMARY:Drummondville\, QC Level 4/5 Sept 12-13\, 2026
DESCRIPTION:
URL:https://wreckmaster.com/event/drummondville-qc-level-4-5-sept-12-13-2026/
LOCATION:APDQ Drummondville\, 1472 rue Jean-B.-Michaud\, Drummondville\, Quebec City\, J2C 7V3\, Canada
CATEGORIES:4/5 Hands-On
ATTACH;FMTTYPE=image/png:https://wreckmaster.com/wp-content/uploads/2025/10/45-HANDS-ON-smaller.png
ORGANIZER;CN="WreckMaster":MAILTO:info@wreckmaster.com
GEO:45.8802909;-72.4842824
X-APPLE-STRUCTURED-LOCATION;VALUE=URI;X-ADDRESS=APDQ Drummondville 1472 rue Jean-B.-Michaud Drummondville Quebec City J2C 7V3 Canada;X-APPLE-RADIUS=500;X-TITLE=1472 rue Jean-B.-Michaud:geo:-72.4842824,45.8802909
END:VEVENT
BEGIN:VEVENT
DTSTART;TZID=America/Toronto:20260916T080000
DTEND;TZID=America/Toronto:20260917T170000
DTSTAMP:20260423T061902
CREATED:20260211T232510Z
LAST-MODIFIED:20260211T232510Z
UID:10000874-1789545600-1789664400@wreckmaster.com
SUMMARY:Edmonton\, AB Level 4/5 Sept. 16-17\, 2026
DESCRIPTION:
URL:https://wreckmaster.com/event/traa-edmonton-3/
LOCATION:Nisku District Fire Station\, 606 21 Ave\, Nisku\, Alberta\, T9E 7Y1\, Canada
CATEGORIES:4/5 Hands-On
ATTACH;FMTTYPE=image/png:https://wreckmaster.com/wp-content/uploads/2025/10/45-HANDS-ON-smaller.png
ORGANIZER;CN="WreckMaster":MAILTO:info@wreckmaster.com
GEO:53.3396215;-113.5230913
X-APPLE-STRUCTURED-LOCATION;VALUE=URI;X-ADDRESS=Nisku District Fire Station 606 21 Ave Nisku Alberta T9E 7Y1 Canada;X-APPLE-RADIUS=500;X-TITLE=606 21 Ave:geo:-113.5230913,53.3396215
END:VEVENT
BEGIN:VEVENT
DTSTART;TZID=America/Toronto:20261007T080000
DTEND;TZID=America/Toronto:20261008T170000
DTSTAMP:20260423T061902
CREATED:20251213T002614Z
LAST-MODIFIED:20260210T030719Z
UID:10000834-1791360000-1791478800@wreckmaster.com
SUMMARY:Chelsea\, ME Level 4/5 Oct 7-8\, 2026
DESCRIPTION:
URL:https://wreckmaster.com/event/4-5-hands-on-training/
LOCATION:Statewide Towing Inc\, 173 River Rd\, Chelsea\, ME\, 04330\, United States
CATEGORIES:4/5 Hands-On
ATTACH;FMTTYPE=image/png:https://wreckmaster.com/wp-content/uploads/2025/10/45-HANDS-ON-smaller.png
ORGANIZER;CN="WreckMaster":MAILTO:info@wreckmaster.com
GEO:44.2830149;-69.77719
X-APPLE-STRUCTURED-LOCATION;VALUE=URI;X-ADDRESS=Statewide Towing Inc 173 River Rd Chelsea ME 04330 United States;X-APPLE-RADIUS=500;X-TITLE=173 River Rd:geo:-69.77719,44.2830149
END:VEVENT
BEGIN:VEVENT
DTSTART;TZID=America/Toronto:20261010T080000
DTEND;TZID=America/Toronto:20261011T170000
DTSTAMP:20260423T061902
CREATED:20251213T003453Z
LAST-MODIFIED:20260210T031223Z
UID:10000832-1791619200-1791738000@wreckmaster.com
SUMMARY:Leesburg\, VA Level 4/5 October 10-11\, 2026
DESCRIPTION:Host: RoadRunner Wrecker Service 19431 Samuels Mill Ct. Leesburg VA 20175
URL:https://wreckmaster.com/event/leesburg-va-level-4-5-october-10-11-2026/
LOCATION:Road Runner Wrecker Service\, Samuels Mill Court\, Leesburg\, VA\, 20175\, United States
CATEGORIES:2026 Classes,4/5 Hands-On
ATTACH;FMTTYPE=image/png:https://wreckmaster.com/wp-content/uploads/2025/10/45-HANDS-ON-smaller.png
ORGANIZER;CN="WreckMaster":MAILTO:info@wreckmaster.com
GEO:39.078992;-77.528762
X-APPLE-STRUCTURED-LOCATION;VALUE=URI;X-ADDRESS=Road Runner Wrecker Service Samuels Mill Court Leesburg VA 20175 United States;X-APPLE-RADIUS=500;X-TITLE=Samuels Mill Court:geo:-77.528762,39.078992
END:VEVENT
END:VCALENDAR