BEGIN:VCALENDAR
VERSION:2.0
PRODID:-//WreckMaster - ECPv6.15.20//NONSGML v1.0//EN
CALSCALE:GREGORIAN
METHOD:PUBLISH
X-ORIGINAL-URL:https://wreckmaster.com
X-WR-CALDESC:Events for WreckMaster
REFRESH-INTERVAL;VALUE=DURATION:PT1H
X-Robots-Tag:noindex
X-PUBLISHED-TTL:PT1H
BEGIN:VTIMEZONE
TZID:America/Toronto
BEGIN:DAYLIGHT
TZOFFSETFROM:-0500
TZOFFSETTO:-0400
TZNAME:EDT
DTSTART:20250309T070000
END:DAYLIGHT
BEGIN:STANDARD
TZOFFSETFROM:-0400
TZOFFSETTO:-0500
TZNAME:EST
DTSTART:20251102T060000
END:STANDARD
BEGIN:DAYLIGHT
TZOFFSETFROM:-0500
TZOFFSETTO:-0400
TZNAME:EDT
DTSTART:20260308T070000
END:DAYLIGHT
BEGIN:STANDARD
TZOFFSETFROM:-0400
TZOFFSETTO:-0500
TZNAME:EST
DTSTART:20261101T060000
END:STANDARD
BEGIN:DAYLIGHT
TZOFFSETFROM:-0500
TZOFFSETTO:-0400
TZNAME:EDT
DTSTART:20270314T070000
END:DAYLIGHT
BEGIN:STANDARD
TZOFFSETFROM:-0400
TZOFFSETTO:-0500
TZNAME:EST
DTSTART:20271107T060000
END:STANDARD
END:VTIMEZONE
BEGIN:VEVENT
DTSTART;TZID=America/Toronto:20260418T080000
DTEND;TZID=America/Toronto:20260419T170000
DTSTAMP:20260423T093610
CREATED:20251201T160804Z
LAST-MODIFIED:20260206T222428Z
UID:10000831-1776499200-1776618000@wreckmaster.com
SUMMARY:Leesburg\, VA Level 2/3 April 18-19\, 2026
DESCRIPTION:Host: RoadRunner Wrecker Service: 19431 Samuels Ct. Leesburg VA 20175
URL:https://wreckmaster.com/event/leesburg-va-level-2-3-april-18-19-2025/
LOCATION:RoadRunner Wrecker Service Inc.\, 19431 Samuels Mill Ct\, Leesburg\, VA\, 20175\, United States
CATEGORIES:23 Hands-On
ATTACH;FMTTYPE=image/png:https://wreckmaster.com/wp-content/uploads/2022/08/23-HANDS-ON-300x300-1.png
GEO:39.078992;-77.528762
X-APPLE-STRUCTURED-LOCATION;VALUE=URI;X-ADDRESS=RoadRunner Wrecker Service Inc. 19431 Samuels Mill Ct Leesburg VA 20175 United States;X-APPLE-RADIUS=500;X-TITLE=19431 Samuels Mill Ct:geo:-77.528762,39.078992
END:VEVENT
BEGIN:VEVENT
DTSTART;TZID=America/Toronto:20260420T080000
DTEND;TZID=America/Toronto:20260421T170000
DTSTAMP:20260423T093610
CREATED:20260107T161625Z
LAST-MODIFIED:20260206T222620Z
UID:10000851-1776672000-1776790800@wreckmaster.com
SUMMARY:Birmingham AL Level 2/3 April 20-21 2026
DESCRIPTION:
URL:https://wreckmaster.com/event/scott-aey-2/
LOCATION:Weil Wrecker Service\, 3400 2nd Ave S\, Birmingham\, AL\, 35222\, United States
CATEGORIES:23 Hands-On
ATTACH;FMTTYPE=image/png:https://wreckmaster.com/wp-content/uploads/2022/08/23-HANDS-ON-300x300-1.png
ORGANIZER;CN="WreckMaster":MAILTO:info@wreckmaster.com
GEO:33.5204903;-86.7840332
X-APPLE-STRUCTURED-LOCATION;VALUE=URI;X-ADDRESS=Weil Wrecker Service 3400 2nd Ave S Birmingham AL 35222 United States;X-APPLE-RADIUS=500;X-TITLE=3400 2nd Ave S:geo:-86.7840332,33.5204903
END:VEVENT
END:VCALENDAR