BEGIN:VCALENDAR
VERSION:2.0
PRODID:-//WreckMaster - ECPv6.15.20//NONSGML v1.0//EN
CALSCALE:GREGORIAN
METHOD:PUBLISH
X-WR-CALNAME:WreckMaster
X-ORIGINAL-URL:https://wreckmaster.com
X-WR-CALDESC:Events for WreckMaster
REFRESH-INTERVAL;VALUE=DURATION:PT1H
X-Robots-Tag:noindex
X-PUBLISHED-TTL:PT1H
BEGIN:VTIMEZONE
TZID:America/Toronto
BEGIN:DAYLIGHT
TZOFFSETFROM:-0500
TZOFFSETTO:-0400
TZNAME:EDT
DTSTART:20250309T070000
END:DAYLIGHT
BEGIN:STANDARD
TZOFFSETFROM:-0400
TZOFFSETTO:-0500
TZNAME:EST
DTSTART:20251102T060000
END:STANDARD
BEGIN:DAYLIGHT
TZOFFSETFROM:-0500
TZOFFSETTO:-0400
TZNAME:EDT
DTSTART:20260308T070000
END:DAYLIGHT
BEGIN:STANDARD
TZOFFSETFROM:-0400
TZOFFSETTO:-0500
TZNAME:EST
DTSTART:20261101T060000
END:STANDARD
BEGIN:DAYLIGHT
TZOFFSETFROM:-0500
TZOFFSETTO:-0400
TZNAME:EDT
DTSTART:20270314T070000
END:DAYLIGHT
BEGIN:STANDARD
TZOFFSETFROM:-0400
TZOFFSETTO:-0500
TZNAME:EST
DTSTART:20271107T060000
END:STANDARD
END:VTIMEZONE
BEGIN:VEVENT
DTSTART;TZID=America/Toronto:20260430T080000
DTEND;TZID=America/Toronto:20260501T170000
DTSTAMP:20260423T014958
CREATED:20250718T140427Z
LAST-MODIFIED:20260226T180543Z
UID:10000752-1777536000-1777654800@wreckmaster.com
SUMMARY:Baldwin\, WI Level 2/3 April 30-May 1\, 2026
DESCRIPTION:Our flagship training course\, Level 2/3: Fundamentals course focuses primarily on light-duty vehicles\, with introductory techniques for medium and heavy-duty work. \nUpon successful completion of the training evaluation\, attendees will receive a training certificate. \nLevel 2/3: Fundamentals is best for business owners\, company managers\, trainers\, health and safety reps or any career-oriented operators.
URL:https://wreckmaster.com/event/baldwin-wisconsin-level-2-3-april-30-may-1-2025/
LOCATION:Day & Night Towing\, 850 Hillcrest St\, Baldwin\, WI\, 54002\, United States
CATEGORIES:2024 Classes,23 Hands-On
ATTACH;FMTTYPE=image/png:https://wreckmaster.com/wp-content/uploads/2022/08/23-HANDS-ON-300x300-1.png
ORGANIZER;CN="WreckMaster":MAILTO:info@wreckmaster.com
GEO:44.9745721;-92.3723949
X-APPLE-STRUCTURED-LOCATION;VALUE=URI;X-ADDRESS=Day & Night Towing 850 Hillcrest St Baldwin WI 54002 United States;X-APPLE-RADIUS=500;X-TITLE=850 Hillcrest St:geo:-92.3723949,44.9745721
END:VEVENT
BEGIN:VEVENT
DTSTART;TZID=America/Toronto:20260430T080000
DTEND;TZID=America/Toronto:20260501T170000
DTSTAMP:20260423T014958
CREATED:20260417T181844Z
LAST-MODIFIED:20260417T182340Z
UID:10000928-1777536000-1777654800@wreckmaster.com
SUMMARY:Cochranville\, PA Level 2/3 April 30 -May 1\, 2026
DESCRIPTION:
URL:https://wreckmaster.com/event/cochranville-pa-level-2-3-april-30-may-1-2026/
LOCATION:Null’s Towing\, Gap Newport Pike\, Cochranville\, PA\, 19330\, United States
CATEGORIES:23 Hands-On
ATTACH;FMTTYPE=image/png:https://wreckmaster.com/wp-content/uploads/2025/10/23-HANDS-ON-300x300-1.png
ORGANIZER;CN="WreckMaster":MAILTO:info@wreckmaster.com
GEO:39.8922433;-75.9196012
X-APPLE-STRUCTURED-LOCATION;VALUE=URI;X-ADDRESS=Null’s Towing Gap Newport Pike Cochranville PA 19330 United States;X-APPLE-RADIUS=500;X-TITLE=Gap Newport Pike:geo:-75.9196012,39.8922433
END:VEVENT
BEGIN:VEVENT
DTSTART;TZID=America/Toronto:20260502T080000
DTEND;TZID=America/Toronto:20260503T170000
DTSTAMP:20260423T014958
CREATED:20251212T215606Z
LAST-MODIFIED:20260210T024123Z
UID:10000839-1777708800-1777827600@wreckmaster.com
SUMMARY:Lansing\, MI Level 2/3 May 2-3\, 2026
DESCRIPTION:
URL:https://wreckmaster.com/event/2-3-hands-on-training-2/
LOCATION:PJ’s Towing\, 2200 Olds Ave\, Lansing\, MI\, 48915\, United States
CATEGORIES:23 Hands-On
ATTACH;FMTTYPE=image/png:https://wreckmaster.com/wp-content/uploads/2025/10/23-HANDS-ON-300x300-1.png
ORGANIZER;CN="WreckMaster":MAILTO:info@wreckmaster.com
GEO:42.7016634;-84.6647898
X-APPLE-STRUCTURED-LOCATION;VALUE=URI;X-ADDRESS=PJ’s Towing 2200 Olds Ave Lansing MI 48915 United States;X-APPLE-RADIUS=500;X-TITLE=2200 Olds Ave:geo:-84.6647898,42.7016634
END:VEVENT
BEGIN:VEVENT
DTSTART;TZID=America/Toronto:20260513T080000
DTEND;TZID=America/Toronto:20260514T170000
DTSTAMP:20260423T014958
CREATED:20251017T181238Z
LAST-MODIFIED:20260210T024441Z
UID:10000801-1778659200-1778778000@wreckmaster.com
SUMMARY:Billings MT\, Level 2/3 May 13-14\, 2026
DESCRIPTION:
URL:https://wreckmaster.com/event/billings-mt-level-2-3-may-13-14-2026/
LOCATION:Billings Hotel and Convention Center\, 1223 Mullowney Lane\, Billings MT\, 59101\, United States
CATEGORIES:23 Hands-On
END:VEVENT
BEGIN:VEVENT
DTSTART;TZID=America/Toronto:20260516T080000
DTEND;TZID=America/Toronto:20260517T170000
DTSTAMP:20260423T014958
CREATED:20260414T144647Z
LAST-MODIFIED:20260414T144647Z
UID:10000925-1778918400-1779037200@wreckmaster.com
SUMMARY:Drummondville\, QC Level 2/3 May 16-17\, 2026
DESCRIPTION:
URL:https://wreckmaster.com/event/drummondville-qc-level-2-3-may-16-17-2026/
LOCATION:APDQ Drummondville\, 1472 rue Jean-B.-Michaud\, Drummondville\, Quebec City\, J2C 7V3\, Canada
CATEGORIES:23 Hands-On
ATTACH;FMTTYPE=image/png:https://wreckmaster.com/wp-content/uploads/2025/10/23-HANDS-ON-300x300-1.png
ORGANIZER;CN="WreckMaster":MAILTO:info@wreckmaster.com
GEO:45.8802909;-72.4842824
X-APPLE-STRUCTURED-LOCATION;VALUE=URI;X-ADDRESS=APDQ Drummondville 1472 rue Jean-B.-Michaud Drummondville Quebec City J2C 7V3 Canada;X-APPLE-RADIUS=500;X-TITLE=1472 rue Jean-B.-Michaud:geo:-72.4842824,45.8802909
END:VEVENT
BEGIN:VEVENT
DTSTART;TZID=America/Toronto:20260519T080000
DTEND;TZID=America/Toronto:20260520T170000
DTSTAMP:20260423T014958
CREATED:20250527T141136Z
LAST-MODIFIED:20260210T024744Z
UID:10000719-1779177600-1779296400@wreckmaster.com
SUMMARY:Heath\, OH Level 2/3 May 19-20\, 2026
DESCRIPTION:Our flagship training course\, Level 2/3: Fundamentals course focuses primarily on light-duty vehicles\, with introductory techniques for medium and heavy-duty work. \nUpon successful completion of the training evaluation\, attendees will receive a training certificate. \nLevel 2/3: Fundamentals is best for business owners\, company managers\, trainers\, health and safety reps or any career-oriented operators.
URL:https://wreckmaster.com/event/heath-oh-level-2-3-may-19-20-2026/
LOCATION:193 Heath Rd\, Heath\, OH\, 43056\, United States
CATEGORIES:2024 Classes,23 Hands-On
ATTACH;FMTTYPE=image/png:https://wreckmaster.com/wp-content/uploads/2023/02/23-HANDS-ON-smaller.png
ORGANIZER;CN="WreckMaster":MAILTO:info@wreckmaster.com
END:VEVENT
BEGIN:VEVENT
DTSTART;TZID=America/Toronto:20260523T080000
DTEND;TZID=America/Toronto:20260524T170000
DTSTAMP:20260423T014958
CREATED:20260414T145341Z
LAST-MODIFIED:20260414T145341Z
UID:10000924-1779523200-1779642000@wreckmaster.com
SUMMARY:Mirabel\, QC Level 2/3 May 23-24\, 2026
DESCRIPTION:
URL:https://wreckmaster.com/event/mirabel-qc-level-2-3-may-23-24-2026/
LOCATION:CFTR-APDQ Mirabel\, 17000 Rue Aubin\, Mirabel\, Quebec City\, J7J 1B1\, Canada
CATEGORIES:23 Hands-On
ATTACH;FMTTYPE=image/png:https://wreckmaster.com/wp-content/uploads/2025/10/23-HANDS-ON-300x300-1.png
ORGANIZER;CN="WreckMaster":MAILTO:info@wreckmaster.com
GEO:45.7103846;-73.9387381
X-APPLE-STRUCTURED-LOCATION;VALUE=URI;X-ADDRESS=CFTR-APDQ Mirabel 17000 Rue Aubin Mirabel Quebec City J7J 1B1 Canada;X-APPLE-RADIUS=500;X-TITLE=17000 Rue Aubin:geo:-73.9387381,45.7103846
END:VEVENT
BEGIN:VEVENT
DTSTART;TZID=America/Toronto:20260530T080000
DTEND;TZID=America/Toronto:20260531T170000
DTSTAMP:20260423T014958
CREATED:20260323T152647Z
LAST-MODIFIED:20260323T152647Z
UID:10000909-1780128000-1780246800@wreckmaster.com
SUMMARY:Windsor VT Level 2/3\, May 30-31\, 2026
DESCRIPTION:
URL:https://wreckmaster.com/event/windsor-vt-level-2-3-may-30-31/
LOCATION:Vermont Towing Association Inc.-Twinline Towing & Auto Repair\, 834 VT Route 131\, Windsor\, VT\, 05089\, United States
CATEGORIES:23 Hands-On
ATTACH;FMTTYPE=image/png:https://wreckmaster.com/wp-content/uploads/2025/10/23-HANDS-ON-300x300-1.png
ORGANIZER;CN="WreckMaster":MAILTO:info@wreckmaster.com
GEO:43.4012858;-72.4216998
X-APPLE-STRUCTURED-LOCATION;VALUE=URI;X-ADDRESS=Vermont Towing Association Inc.-Twinline Towing & Auto Repair 834 VT Route 131 Windsor VT 05089 United States;X-APPLE-RADIUS=500;X-TITLE=834 VT Route 131:geo:-72.4216998,43.4012858
END:VEVENT
BEGIN:VEVENT
DTSTART;TZID=America/Toronto:20260603T080000
DTEND;TZID=America/Toronto:20260604T170000
DTSTAMP:20260423T014958
CREATED:20260305T165142Z
LAST-MODIFIED:20260305T165142Z
UID:10000890-1780473600-1780592400@wreckmaster.com
SUMMARY:Regina\, SK Level 2/3 June 3-4\, 2026
DESCRIPTION:
URL:https://wreckmaster.com/event/saskatchewan-caa-2-3/
LOCATION:CAA Saskatchewan\, 105 Kress Street\, Regina\, Saskatchewan\, S4N 5X8\, Canada
CATEGORIES:23 Hands-On
ATTACH;FMTTYPE=image/png:https://wreckmaster.com/wp-content/uploads/2025/10/23-HANDS-ON-300x300-1.png
ORGANIZER;CN="WreckMaster":MAILTO:info@wreckmaster.com
GEO:50.4835492;-104.5632708
X-APPLE-STRUCTURED-LOCATION;VALUE=URI;X-ADDRESS=CAA Saskatchewan 105 Kress Street Regina Saskatchewan S4N 5X8 Canada;X-APPLE-RADIUS=500;X-TITLE=105 Kress Street:geo:-104.5632708,50.4835492
END:VEVENT
BEGIN:VEVENT
DTSTART;TZID=America/Toronto:20260606T080000
DTEND;TZID=America/Toronto:20260607T050000
DTSTAMP:20260423T014958
CREATED:20260330T151809Z
LAST-MODIFIED:20260330T151809Z
UID:10000915-1780732800-1780808400@wreckmaster.com
SUMMARY:Louisville\, KY Level 2/3 June 6-7\, 2026
DESCRIPTION:
URL:https://wreckmaster.com/event/louisville-ky-2-3-june-6-7-2026/
LOCATION:Tony’s Wrecker Service\, 3311 Collins Lane\, Louisville\, KY\, 40245\, United States
CATEGORIES:23 Hands-On
ATTACH;FMTTYPE=image/png:https://wreckmaster.com/wp-content/uploads/2025/10/23-HANDS-ON-300x300-1.png
ORGANIZER;CN="WreckMaster":MAILTO:info@wreckmaster.com
GEO:38.292863;-85.5176517
X-APPLE-STRUCTURED-LOCATION;VALUE=URI;X-ADDRESS=Tony’s Wrecker Service 3311 Collins Lane Louisville KY 40245 United States;X-APPLE-RADIUS=500;X-TITLE=3311 Collins Lane:geo:-85.5176517,38.292863
END:VEVENT
BEGIN:VEVENT
DTSTART;TZID=America/Toronto:20260606T080000
DTEND;TZID=America/Toronto:20260607T170000
DTSTAMP:20260423T014958
CREATED:20260309T025950Z
LAST-MODIFIED:20260309T030718Z
UID:10000896-1780732800-1780851600@wreckmaster.com
SUMMARY:Baltimore\, MD Level 2/3 June 6-7\, 2026
DESCRIPTION:
URL:https://wreckmaster.com/event/autobarn/
LOCATION:The Auto Barn Inc\, 2125 W Lafayette Ave\, Baltimore\, Maryland\, 21217\, United States
CATEGORIES:23 Hands-On
ATTACH;FMTTYPE=image/png:https://wreckmaster.com/wp-content/uploads/2025/10/23-HANDS-ON-300x300-1.png
ORGANIZER;CN="WreckMaster":MAILTO:info@wreckmaster.com
END:VEVENT
BEGIN:VEVENT
DTSTART;TZID=America/Toronto:20260606T080000
DTEND;TZID=America/Toronto:20260607T170000
DTSTAMP:20260423T014958
CREATED:20260324T152130Z
LAST-MODIFIED:20260324T152130Z
UID:10000912-1780732800-1780851600@wreckmaster.com
SUMMARY:Portland\, OR Level 2/3 June 6-7\, 2026
DESCRIPTION:
URL:https://wreckmaster.com/event/portland-or-level-2-3-june-6-7-2026/
LOCATION:Portland Fire Department Training Facility/Gerlock Towing & Heavy Haul\, 4800 NE 122nd Ave\, Portland\, OR\, 97230\, United States
CATEGORIES:23 Hands-On
ATTACH;FMTTYPE=image/png:https://wreckmaster.com/wp-content/uploads/2025/10/23-HANDS-ON-300x300-1.png
ORGANIZER;CN="WreckMaster":MAILTO:info@wreckmaster.com
GEO:45.5576509;-122.5369279
X-APPLE-STRUCTURED-LOCATION;VALUE=URI;X-ADDRESS=Portland Fire Department Training Facility/Gerlock Towing & Heavy Haul 4800 NE 122nd Ave Portland OR 97230 United States;X-APPLE-RADIUS=500;X-TITLE=4800 NE 122nd Ave:geo:-122.5369279,45.5576509
END:VEVENT
BEGIN:VEVENT
DTSTART;TZID=America/Toronto:20260613T080000
DTEND;TZID=America/Toronto:20260614T050000
DTSTAMP:20260423T014958
CREATED:20260202T173540Z
LAST-MODIFIED:20260304T175917Z
UID:10000868-1781337600-1781413200@wreckmaster.com
SUMMARY:Marietta\, GA Level 2/3 June 13-14\, 2026
DESCRIPTION:
URL:https://wreckmaster.com/event/scott-aey-6/
LOCATION:Marietta wrecker service/TRAG\, 770 Pickens Ind Dr\, Marietta\, 30062\, United States
CATEGORIES:23 Hands-On
ATTACH;FMTTYPE=image/png:https://wreckmaster.com/wp-content/uploads/2025/10/23-HANDS-ON-300x300-1.png
ORGANIZER;CN="WreckMaster":MAILTO:info@wreckmaster.com
GEO:33.9674871;-84.5223008
X-APPLE-STRUCTURED-LOCATION;VALUE=URI;X-ADDRESS=Marietta wrecker service/TRAG 770 Pickens Ind Dr Marietta 30062 United States;X-APPLE-RADIUS=500;X-TITLE=770 Pickens Ind Dr:geo:-84.5223008,33.9674871
END:VEVENT
BEGIN:VEVENT
DTSTART;TZID=America/Toronto:20260613T080000
DTEND;TZID=America/Toronto:20260614T170000
DTSTAMP:20260423T014958
CREATED:20251230T205302Z
LAST-MODIFIED:20260210T025508Z
UID:10000849-1781337600-1781456400@wreckmaster.com
SUMMARY:Exeter\, RI Level 2/3 June 13-14\, 2026
DESCRIPTION:
URL:https://wreckmaster.com/event/exeter-ri-level-2-3-june-13-14-2026/
LOCATION:Rhode Island Fire Academy\, 4 Green Lane\, Exeter\, RI\, 02822\, United States
CATEGORIES:23 Hands-On
ATTACH;FMTTYPE=image/png:https://wreckmaster.com/wp-content/uploads/2025/10/23-HANDS-ON-300x300-1.png
ORGANIZER;CN="WreckMaster":MAILTO:info@wreckmaster.com
GEO:41.5591838;-71.5438923
X-APPLE-STRUCTURED-LOCATION;VALUE=URI;X-ADDRESS=Rhode Island Fire Academy 4 Green Lane Exeter RI 02822 United States;X-APPLE-RADIUS=500;X-TITLE=4 Green Lane:geo:-71.5438923,41.5591838
END:VEVENT
BEGIN:VEVENT
DTSTART;TZID=America/Toronto:20260613T080000
DTEND;TZID=America/Toronto:20260614T170000
DTSTAMP:20260423T014958
CREATED:20260217T195702Z
LAST-MODIFIED:20260226T180832Z
UID:10000876-1781337600-1781456400@wreckmaster.com
SUMMARY:Canandaigua\, NY Level 2/3 June 13-14\, 2026
DESCRIPTION:
URL:https://wreckmaster.com/event/canandaigua-ny-level-2-3/
LOCATION:Bristol Volunteer Fire Department\, New York 64\, Canandaigua\, NY\, 14424\, United States
CATEGORIES:23 Hands-On
ATTACH;FMTTYPE=image/png:https://wreckmaster.com/wp-content/uploads/2025/10/23-HANDS-ON-300x300-1.png
GEO:42.8165789;-77.3946303
X-APPLE-STRUCTURED-LOCATION;VALUE=URI;X-ADDRESS=Bristol Volunteer Fire Department New York 64 Canandaigua NY 14424 United States;X-APPLE-RADIUS=500;X-TITLE=New York 64:geo:-77.3946303,42.8165789
END:VEVENT
BEGIN:VEVENT
DTSTART;TZID=America/Toronto:20260613T080000
DTEND;TZID=America/Toronto:20260614T170000
DTSTAMP:20260423T014958
CREATED:20260414T150130Z
LAST-MODIFIED:20260414T232241Z
UID:10000922-1781337600-1781456400@wreckmaster.com
SUMMARY:Quebec City\, QC Level 2/3 June 13-14\, 2026
DESCRIPTION:
URL:https://wreckmaster.com/event/drummondville-qc-level-2-3-june-13-14-2026/
LOCATION:CFTR-APDQ Quebec City\, 700 Rue De L'Argon\, Quebec\, QC\, G2N 2G5\, Canada
CATEGORIES:23 Hands-On
ATTACH;FMTTYPE=image/png:https://wreckmaster.com/wp-content/uploads/2025/10/23-HANDS-ON-300x300-1.png
ORGANIZER;CN="WreckMaster":MAILTO:info@wreckmaster.com
END:VEVENT
BEGIN:VEVENT
DTSTART;TZID=America/Toronto:20260620T080000
DTEND;TZID=America/Toronto:20260621T170000
DTSTAMP:20260423T014958
CREATED:20260316T160941Z
LAST-MODIFIED:20260316T160941Z
UID:10000904-1781942400-1782061200@wreckmaster.com
SUMMARY:Merrimack\, NH Level 2/3 June 20-21\, 2026
DESCRIPTION:
URL:https://wreckmaster.com/event/merrimack-nh-level-2-3-june-21-22-2026/
LOCATION:Bailey’s Towing & Autobody\, 54 Baboosic Lake Rd\, Merrimack\, NH\, 3054\, United States
CATEGORIES:23 Hands-On
ATTACH;FMTTYPE=image/png:https://wreckmaster.com/wp-content/uploads/2025/10/23-HANDS-ON-300x300-1.png
ORGANIZER;CN="WreckMaster":MAILTO:info@wreckmaster.com
GEO:42.8683012;-71.5037004
X-APPLE-STRUCTURED-LOCATION;VALUE=URI;X-ADDRESS=Bailey’s Towing & Autobody 54 Baboosic Lake Rd Merrimack NH 3054 United States;X-APPLE-RADIUS=500;X-TITLE=54 Baboosic Lake Rd:geo:-71.5037004,42.8683012
END:VEVENT
BEGIN:VEVENT
DTSTART;TZID=America/Toronto:20260627T080000
DTEND;TZID=America/Toronto:20260628T170000
DTSTAMP:20260423T014958
CREATED:20260217T181350Z
LAST-MODIFIED:20260217T181350Z
UID:10000879-1782547200-1782666000@wreckmaster.com
SUMMARY:Blacksburg\, VA Level 2/3 June 27-28\, 2026
DESCRIPTION:
URL:https://wreckmaster.com/event/blacksburg-va-level-2-3-june-27-28-2026/
LOCATION:Campus Automotive\, 1208 N Main Street\, Blacksburg\, VA\, 24060\, United States
CATEGORIES:23 Hands-On
ATTACH;FMTTYPE=image/png:https://wreckmaster.com/wp-content/uploads/2025/10/23-HANDS-ON-300x300-1.png
ORGANIZER;CN="WreckMaster":MAILTO:info@wreckmaster.com
END:VEVENT
BEGIN:VEVENT
DTSTART;TZID=America/Toronto:20260725T080000
DTEND;TZID=America/Toronto:20260726T170000
DTSTAMP:20260423T014958
CREATED:20260202T184311Z
LAST-MODIFIED:20260210T015759Z
UID:10000867-1784966400-1785085200@wreckmaster.com
SUMMARY:Green Bay\, WI Level 2/3 July 25-26\, 2026
DESCRIPTION:Dave f 2/3
URL:https://wreckmaster.com/event/been-bay-wi-level-2-3-hand-on-training/
LOCATION:Big D’S Fabrication\, Glenn’s 24 HR Towing\, 3157 Cottage Rd\, Green Bay\, WI\, 54311\, United States
CATEGORIES:23 Hands-On
ATTACH;FMTTYPE=image/png:https://wreckmaster.com/wp-content/uploads/2025/10/23-HANDS-ON-300x300-1.png
ORGANIZER;CN="WreckMaster":MAILTO:info@wreckmaster.com
GEO:44.442752;-87.9168281
X-APPLE-STRUCTURED-LOCATION;VALUE=URI;X-ADDRESS=Big D’S Fabrication Glenn’s 24 HR Towing 3157 Cottage Rd Green Bay WI 54311 United States;X-APPLE-RADIUS=500;X-TITLE=3157 Cottage Rd:geo:-87.9168281,44.442752
END:VEVENT
BEGIN:VEVENT
DTSTART;TZID=America/Toronto:20260914T080000
DTEND;TZID=America/Toronto:20260915T170000
DTSTAMP:20260423T014958
CREATED:20260211T231832Z
LAST-MODIFIED:20260211T231832Z
UID:10000873-1789372800-1789491600@wreckmaster.com
SUMMARY:Edmonton\, AB Level 2/3 Sept. 14-15\, 2026
DESCRIPTION:
URL:https://wreckmaster.com/event/traa-edmonton-2/
LOCATION:Nisku District Fire Station\, 606 21 Ave\, Nisku\, Alberta\, T9E 7Y1\, Canada
CATEGORIES:23 Hands-On
ATTACH;FMTTYPE=image/png:https://wreckmaster.com/wp-content/uploads/2025/10/23-HANDS-ON-300x300-1.png
ORGANIZER;CN="WreckMaster":MAILTO:info@wreckmaster.com
GEO:53.3396215;-113.5230913
X-APPLE-STRUCTURED-LOCATION;VALUE=URI;X-ADDRESS=Nisku District Fire Station 606 21 Ave Nisku Alberta T9E 7Y1 Canada;X-APPLE-RADIUS=500;X-TITLE=606 21 Ave:geo:-113.5230913,53.3396215
END:VEVENT
BEGIN:VEVENT
DTSTART;TZID=America/Toronto:20261001T080000
DTEND;TZID=America/Toronto:20261002T170000
DTSTAMP:20260423T014958
CREATED:20260217T183509Z
LAST-MODIFIED:20260217T183509Z
UID:10000877-1790841600-1790960400@wreckmaster.com
SUMMARY:Urbana\, Ill Level 2/3 October 1-2\, 2026
DESCRIPTION:
URL:https://wreckmaster.com/event/urbana-ill-level-2-3-october-1-2-2026/
LOCATION:Tatmans Towing\, 810 Perkins Rd\, Urbana\, IL\, 61802\, United States
CATEGORIES:23 Hands-On
ATTACH;FMTTYPE=image/png:https://wreckmaster.com/wp-content/uploads/2025/10/23-HANDS-ON-300x300-1.png
GEO:40.1283326;-88.1983856
X-APPLE-STRUCTURED-LOCATION;VALUE=URI;X-ADDRESS=Tatmans Towing 810 Perkins Rd Urbana IL 61802 United States;X-APPLE-RADIUS=500;X-TITLE=810 Perkins Rd:geo:-88.1983856,40.1283326
END:VEVENT
BEGIN:VEVENT
DTSTART;TZID=America/Toronto:20261003T080000
DTEND;TZID=America/Toronto:20261004T170000
DTSTAMP:20260423T014958
CREATED:20260217T183827Z
LAST-MODIFIED:20260217T183827Z
UID:10000878-1791014400-1791133200@wreckmaster.com
SUMMARY:Urbana\, Ill Level 4/5 October 3-4\, 2026
DESCRIPTION:
URL:https://wreckmaster.com/event/urbana-ill-level-4-5-october-3-4-2026/
LOCATION:Tatmans Towing\, 810 Perkins Rd\, Urbana\, IL\, 61802\, United States
CATEGORIES:4/5 Hands-On
ATTACH;FMTTYPE=image/png:https://wreckmaster.com/wp-content/uploads/2025/10/45-HANDS-ON-smaller.png
GEO:40.1283326;-88.1983856
X-APPLE-STRUCTURED-LOCATION;VALUE=URI;X-ADDRESS=Tatmans Towing 810 Perkins Rd Urbana IL 61802 United States;X-APPLE-RADIUS=500;X-TITLE=810 Perkins Rd:geo:-88.1983856,40.1283326
END:VEVENT
BEGIN:VEVENT
DTSTART;TZID=America/Toronto:20261005T080000
DTEND;TZID=America/Toronto:20261006T170000
DTSTAMP:20260423T014958
CREATED:20251213T002225Z
LAST-MODIFIED:20260210T030552Z
UID:10000833-1791187200-1791306000@wreckmaster.com
SUMMARY:Chelsea ME\, Level 2/3 Oct 5-6\, 2026
DESCRIPTION:
URL:https://wreckmaster.com/event/2-3-hands-on-training/
LOCATION:Statewide Towing Inc\, 173 River Rd\, Chelsea\, ME\, 04330\, United States
CATEGORIES:23 Hands-On
ATTACH;FMTTYPE=image/png:https://wreckmaster.com/wp-content/uploads/2025/10/23-HANDS-ON-300x300-1.png
ORGANIZER;CN="WreckMaster":MAILTO:info@wreckmaster.com
GEO:44.2830149;-69.77719
X-APPLE-STRUCTURED-LOCATION;VALUE=URI;X-ADDRESS=Statewide Towing Inc 173 River Rd Chelsea ME 04330 United States;X-APPLE-RADIUS=500;X-TITLE=173 River Rd:geo:-69.77719,44.2830149
END:VEVENT
END:VCALENDAR