BEGIN:VCALENDAR
VERSION:2.0
PRODID:-//WreckMaster - ECPv6.15.20//NONSGML v1.0//EN
CALSCALE:GREGORIAN
METHOD:PUBLISH
X-WR-CALNAME:WreckMaster
X-ORIGINAL-URL:https://wreckmaster.com
X-WR-CALDESC:Events for WreckMaster
REFRESH-INTERVAL;VALUE=DURATION:PT1H
X-Robots-Tag:noindex
X-PUBLISHED-TTL:PT1H
BEGIN:VTIMEZONE
TZID:America/Toronto
BEGIN:DAYLIGHT
TZOFFSETFROM:-0500
TZOFFSETTO:-0400
TZNAME:EDT
DTSTART:20250309T070000
END:DAYLIGHT
BEGIN:STANDARD
TZOFFSETFROM:-0400
TZOFFSETTO:-0500
TZNAME:EST
DTSTART:20251102T060000
END:STANDARD
BEGIN:DAYLIGHT
TZOFFSETFROM:-0500
TZOFFSETTO:-0400
TZNAME:EDT
DTSTART:20260308T070000
END:DAYLIGHT
BEGIN:STANDARD
TZOFFSETFROM:-0400
TZOFFSETTO:-0500
TZNAME:EST
DTSTART:20261101T060000
END:STANDARD
BEGIN:DAYLIGHT
TZOFFSETFROM:-0500
TZOFFSETTO:-0400
TZNAME:EDT
DTSTART:20270314T070000
END:DAYLIGHT
BEGIN:STANDARD
TZOFFSETFROM:-0400
TZOFFSETTO:-0500
TZNAME:EST
DTSTART:20271107T060000
END:STANDARD
END:VTIMEZONE
BEGIN:VEVENT
DTSTART;TZID=America/Toronto:20260505T080000
DTEND;TZID=America/Toronto:20260506T170000
DTSTAMP:20260423T062218
CREATED:20260311T175451Z
LAST-MODIFIED:20260311T180106Z
UID:10000897-1777968000-1778086800@wreckmaster.com
SUMMARY:Max Meadows\, VA Trip Level 1 May 5-6\, 2026
DESCRIPTION:
URL:https://wreckmaster.com/event/max-meadows-va-trip-1/
LOCATION:Complete Towing\, Major Grahams Road\, Max Meadows\, VA\, 24360\, United States
CATEGORIES:T.R.I.P L1
ATTACH;FMTTYPE=image/png:https://wreckmaster.com/wp-content/uploads/2025/10/TRIP-1-1-New-Size-1.png
ORGANIZER;CN="WreckMaster":MAILTO:info@wreckmaster.com
GEO:36.9493931;-80.8795145
X-APPLE-STRUCTURED-LOCATION;VALUE=URI;X-ADDRESS=Complete Towing Major Grahams Road Max Meadows VA 24360 United States;X-APPLE-RADIUS=500;X-TITLE=Major Grahams Road:geo:-80.8795145,36.9493931
END:VEVENT
BEGIN:VEVENT
DTSTART;TZID=America/Toronto:20260919T080000
DTEND;TZID=America/Toronto:20260920T170000
DTSTAMP:20260423T062218
CREATED:20260330T152248Z
LAST-MODIFIED:20260330T152248Z
UID:10000918-1789804800-1789923600@wreckmaster.com
SUMMARY:Doswell\, VA Trip 1 September 19-20\, 2026
DESCRIPTION:
URL:https://wreckmaster.com/event/doswell-va-trip-1-september-19-20-2026/
LOCATION:Anytime Towing & Recovery\, 16269 Washington Hwy\, Doswell\, VA\, 23006\, United States
CATEGORIES:T.R.I.P L1
ATTACH;FMTTYPE=image/png:https://wreckmaster.com/wp-content/uploads/2025/10/TRIP-1-1-New-Size-1.png
ORGANIZER;CN="WreckMaster":MAILTO:info@wreckmaster.com
GEO:37.8516157;-77.464864
X-APPLE-STRUCTURED-LOCATION;VALUE=URI;X-ADDRESS=Anytime Towing & Recovery 16269 Washington Hwy Doswell VA 23006 United States;X-APPLE-RADIUS=500;X-TITLE=16269 Washington Hwy:geo:-77.464864,37.8516157
END:VEVENT
BEGIN:VEVENT
DTSTART;TZID=America/Toronto:20261010T080000
DTEND;TZID=America/Toronto:20261011T170000
DTSTAMP:20260423T062218
CREATED:20260330T152554Z
LAST-MODIFIED:20260330T152554Z
UID:10000916-1791619200-1791738000@wreckmaster.com
SUMMARY:Cartersville\, GA Trip 1 October 10-11\, 2026
DESCRIPTION:
URL:https://wreckmaster.com/event/cartersville-ga-trip-1-october-10-11-2026/
LOCATION:Matthews Garage-TRAG\, 541 Martin Rd\, Cartersville\, GA\, 30121\, United States
CATEGORIES:T.R.I.P L1
ATTACH;FMTTYPE=image/png:https://wreckmaster.com/wp-content/uploads/2025/10/TRIP-1-1-New-Size-1.png
ORGANIZER;CN="WreckMaster":MAILTO:info@wreckmaster.com
GEO:34.2093435;-84.8300178
X-APPLE-STRUCTURED-LOCATION;VALUE=URI;X-ADDRESS=Matthews Garage-TRAG 541 Martin Rd Cartersville GA 30121 United States;X-APPLE-RADIUS=500;X-TITLE=541 Martin Rd:geo:-84.8300178,34.2093435
END:VEVENT
END:VCALENDAR