BEGIN:VCALENDAR
VERSION:2.0
PRODID:-//WreckMaster - ECPv6.15.20//NONSGML v1.0//EN
CALSCALE:GREGORIAN
METHOD:PUBLISH
X-ORIGINAL-URL:https://wreckmaster.com
X-WR-CALDESC:Events for WreckMaster
REFRESH-INTERVAL;VALUE=DURATION:PT1H
X-Robots-Tag:noindex
X-PUBLISHED-TTL:PT1H
BEGIN:VTIMEZONE
TZID:America/Toronto
BEGIN:DAYLIGHT
TZOFFSETFROM:-0500
TZOFFSETTO:-0400
TZNAME:EDT
DTSTART:20250309T070000
END:DAYLIGHT
BEGIN:STANDARD
TZOFFSETFROM:-0400
TZOFFSETTO:-0500
TZNAME:EST
DTSTART:20251102T060000
END:STANDARD
BEGIN:DAYLIGHT
TZOFFSETFROM:-0500
TZOFFSETTO:-0400
TZNAME:EDT
DTSTART:20260308T070000
END:DAYLIGHT
BEGIN:STANDARD
TZOFFSETFROM:-0400
TZOFFSETTO:-0500
TZNAME:EST
DTSTART:20261101T060000
END:STANDARD
BEGIN:DAYLIGHT
TZOFFSETFROM:-0500
TZOFFSETTO:-0400
TZNAME:EDT
DTSTART:20270314T070000
END:DAYLIGHT
BEGIN:STANDARD
TZOFFSETFROM:-0400
TZOFFSETTO:-0500
TZNAME:EST
DTSTART:20271107T060000
END:STANDARD
END:VTIMEZONE
BEGIN:VEVENT
DTSTART;TZID=America/Toronto:20260424T080000
DTEND;TZID=America/Toronto:20260425T170000
DTSTAMP:20260423T064450
CREATED:20260120T040209Z
LAST-MODIFIED:20260206T223034Z
UID:10000853-1777017600-1777136400@wreckmaster.com
SUMMARY:Birmingham\, AL Level 6/7 April 24-25\, 2026
DESCRIPTION:
URL:https://wreckmaster.com/event/scott-aey-4/
LOCATION:Weil Wrecker Service\, 3400 2nd Ave S\, Birmingham\, AL\, 35222\, United States
CATEGORIES:6/7 Hands-On
ATTACH;FMTTYPE=image/png:https://wreckmaster.com/wp-content/uploads/2025/10/67-HANDS-ON-smaller.png
ORGANIZER;CN="WreckMaster":MAILTO:info@wreckmaster.com
GEO:33.5204903;-86.7840332
X-APPLE-STRUCTURED-LOCATION;VALUE=URI;X-ADDRESS=Weil Wrecker Service 3400 2nd Ave S Birmingham AL 35222 United States;X-APPLE-RADIUS=500;X-TITLE=3400 2nd Ave S:geo:-86.7840332,33.5204903
END:VEVENT
BEGIN:VEVENT
DTSTART;TZID=America/Toronto:20260508T080000
DTEND;TZID=America/Toronto:20260509T170000
DTSTAMP:20260423T064450
CREATED:20260312T010421Z
LAST-MODIFIED:20260312T010637Z
UID:10000903-1778227200-1778346000@wreckmaster.com
SUMMARY:Grants Pass\, OR Level 6/7 May 8-9\, 2026
DESCRIPTION:
URL:https://wreckmaster.com/event/grants-pass-or-level-6-7-may-8-9-2026/
LOCATION:Goodfellas Towing\, 3465 Camp Joy Rd\, Grants Pass\, OR\, 97526\, United States
CATEGORIES:6/7 Hands-On
ATTACH;FMTTYPE=image/png:https://wreckmaster.com/wp-content/uploads/2025/10/67-HANDS-ON-smaller.png
ORGANIZER;CN="WreckMaster":MAILTO:info@wreckmaster.com
END:VEVENT
BEGIN:VEVENT
DTSTART;TZID=America/Toronto:20260523T080000
DTEND;TZID=America/Toronto:20260524T170000
DTSTAMP:20260423T064450
CREATED:20250716T141110Z
LAST-MODIFIED:20260210T024954Z
UID:10000748-1779523200-1779642000@wreckmaster.com
SUMMARY:Heath\, OH Level 6/7 May 23-24\, 2026
DESCRIPTION:Learn the skills to safely and efficiently manage the most complicated scenarios\, recover the heaviest casualties and impress the most demanding teams on-scene. \nAre you the go-to operator for your company’s most difficult jobs? Are you the problem solver\, the one who gets it right the first time\, every time? Take Level 6/7: Heavy-Duty Applications and become that operator. \nUpon successful completion of the training evaluation\, attendees will receive a training certificate. \nIf you want your customers to say “how did they do that so fast?” and “we’re calling them again\,” take the Level 6/7: Heavy Duty Applications course. Your instructors did.
URL:https://wreckmaster.com/event/heath-oh-level-6-7-may-23-24-2026/
LOCATION:Heath Fire Dept\, 193 Heath Rd Heath Road\, Heath\, OH\, 43056\, United States
CATEGORIES:2024 Classes,6/7 Hands-On
ATTACH;FMTTYPE=image/png:https://wreckmaster.com/wp-content/uploads/2024/05/67-HANDS-ON-smaller.png
ORGANIZER;CN="WreckMaster":MAILTO:info@wreckmaster.com
GEO:40.0220688;-82.4509074
X-APPLE-STRUCTURED-LOCATION;VALUE=URI;X-ADDRESS=Heath Fire Dept 193 Heath Rd Heath Road Heath OH 43056 United States;X-APPLE-RADIUS=500;X-TITLE=193 Heath Rd Heath Road:geo:-82.4509074,40.0220688
END:VEVENT
BEGIN:VEVENT
DTSTART;TZID=America/Toronto:20260627T080000
DTEND;TZID=America/Toronto:20260628T170000
DTSTAMP:20260423T064450
CREATED:20251213T001220Z
LAST-MODIFIED:20260210T025718Z
UID:10000841-1782547200-1782666000@wreckmaster.com
SUMMARY:Lansing MI\, Level 6/7 June 27-28\, 2026
DESCRIPTION:
URL:https://wreckmaster.com/event/6-7-hands-on-training-2/
LOCATION:PJ’s Towing\, 2200 Olds Ave\, Lansing\, MI\, 48915\, United States
CATEGORIES:6/7 Hands-On
ATTACH;FMTTYPE=image/png:https://wreckmaster.com/wp-content/uploads/2025/10/67-HANDS-ON-smaller.png
ORGANIZER;CN="WreckMaster":MAILTO:info@wreckmaster.com
GEO:42.7016634;-84.6647898
X-APPLE-STRUCTURED-LOCATION;VALUE=URI;X-ADDRESS=PJ’s Towing 2200 Olds Ave Lansing MI 48915 United States;X-APPLE-RADIUS=500;X-TITLE=2200 Olds Ave:geo:-84.6647898,42.7016634
END:VEVENT
BEGIN:VEVENT
DTSTART;TZID=America/Toronto:20260918T080000
DTEND;TZID=America/Toronto:20260919T170000
DTSTAMP:20260423T064450
CREATED:20260211T233037Z
LAST-MODIFIED:20260211T233037Z
UID:10000875-1789718400-1789837200@wreckmaster.com
SUMMARY:Edmonton\, AB Level 6/7 Sept. 18-19\, 2026
DESCRIPTION:
URL:https://wreckmaster.com/event/traa-edmonton/
LOCATION:Nisku District Fire Station\, 606 21 Ave\, Nisku\, Alberta\, T9E 7Y1\, Canada
CATEGORIES:6/7 Hands-On
ATTACH;FMTTYPE=image/png:https://wreckmaster.com/wp-content/uploads/2025/10/67-HANDS-ON-smaller.png
ORGANIZER;CN="WreckMaster":MAILTO:info@wreckmaster.com
GEO:53.3396215;-113.5230913
X-APPLE-STRUCTURED-LOCATION;VALUE=URI;X-ADDRESS=Nisku District Fire Station 606 21 Ave Nisku Alberta T9E 7Y1 Canada;X-APPLE-RADIUS=500;X-TITLE=606 21 Ave:geo:-113.5230913,53.3396215
END:VEVENT
BEGIN:VEVENT
DTSTART;TZID=America/Toronto:20261003T080000
DTEND;TZID=America/Toronto:20261004T170000
DTSTAMP:20260423T064450
CREATED:20260120T233634Z
LAST-MODIFIED:20260210T030321Z
UID:10000860-1791014400-1791133200@wreckmaster.com
SUMMARY:Exeter\, RI Level 6/7 Oct 3-4\, 2026
DESCRIPTION:
URL:https://wreckmaster.com/event/exeter-ri-6-7-hands-on-training/
LOCATION:Rhode Island Fire Academy\, 4 Green Lane\, Exeter\, RI\, 02822\, United States
CATEGORIES:6/7 Hands-On
ATTACH;FMTTYPE=image/png:https://wreckmaster.com/wp-content/uploads/2025/10/67-HANDS-ON-smaller.png
ORGANIZER;CN="WreckMaster":MAILTO:info@wreckmaster.com
GEO:41.5591838;-71.5438923
X-APPLE-STRUCTURED-LOCATION;VALUE=URI;X-ADDRESS=Rhode Island Fire Academy 4 Green Lane Exeter RI 02822 United States;X-APPLE-RADIUS=500;X-TITLE=4 Green Lane:geo:-71.5438923,41.5591838
END:VEVENT
BEGIN:VEVENT
DTSTART;TZID=America/Toronto:20261009T080000
DTEND;TZID=America/Toronto:20261010T170000
DTSTAMP:20260423T064450
CREATED:20251213T003052Z
LAST-MODIFIED:20260210T030846Z
UID:10000835-1791532800-1791651600@wreckmaster.com
SUMMARY:Chelsea\, ME Level 6/7 Oct 9-10\, 2026
DESCRIPTION:
URL:https://wreckmaster.com/event/6-7-hands-on-training/
LOCATION:Statewide Towing Inc\, 173 River Rd\, Chelsea\, ME\, 04330\, United States
CATEGORIES:2026 Classes,6/7 Hands-On
ATTACH;FMTTYPE=image/png:https://wreckmaster.com/wp-content/uploads/2025/10/67-HANDS-ON-smaller.png
ORGANIZER;CN="WreckMaster":MAILTO:info@wreckmaster.com
GEO:44.2830149;-69.77719
X-APPLE-STRUCTURED-LOCATION;VALUE=URI;X-ADDRESS=Statewide Towing Inc 173 River Rd Chelsea ME 04330 United States;X-APPLE-RADIUS=500;X-TITLE=173 River Rd:geo:-69.77719,44.2830149
END:VEVENT
BEGIN:VEVENT
DTSTART;TZID=America/Toronto:20261106T080000
DTEND;TZID=America/Toronto:20261107T170000
DTSTAMP:20260423T064450
CREATED:20260414T151343Z
LAST-MODIFIED:20260414T151343Z
UID:10000926-1793952000-1794070800@wreckmaster.com
SUMMARY:Drummondville\, QC Level 6/7 Nov 6-7\, 2026
DESCRIPTION:
URL:https://wreckmaster.com/event/drummondville-qc-level-6-7-nov-6-7-2026/
LOCATION:APDQ Drummondville\, 1472 rue Jean-B.-Michaud\, Drummondville\, Quebec City\, J2C 7V3\, Canada
CATEGORIES:6/7 Hands-On
ATTACH;FMTTYPE=image/png:https://wreckmaster.com/wp-content/uploads/2025/10/67-HANDS-ON-smaller.png
ORGANIZER;CN="WreckMaster":MAILTO:info@wreckmaster.com
GEO:45.8802909;-72.4842824
X-APPLE-STRUCTURED-LOCATION;VALUE=URI;X-ADDRESS=APDQ Drummondville 1472 rue Jean-B.-Michaud Drummondville Quebec City J2C 7V3 Canada;X-APPLE-RADIUS=500;X-TITLE=1472 rue Jean-B.-Michaud:geo:-72.4842824,45.8802909
END:VEVENT
END:VCALENDAR